BEGIN:VCALENDAR
VERSION:2.0
PRODID:-//Danville Museum of Fine Arts &amp; History - ECPv6.15.18//NONSGML v1.0//EN
CALSCALE:GREGORIAN
METHOD:PUBLISH
X-ORIGINAL-URL:https://danvillemuseum.org
X-WR-CALDESC:Events for Danville Museum of Fine Arts &amp; History
REFRESH-INTERVAL;VALUE=DURATION:PT1H
X-Robots-Tag:noindex
X-PUBLISHED-TTL:PT1H
BEGIN:VTIMEZONE
TZID:UTC
BEGIN:STANDARD
TZOFFSETFROM:+0000
TZOFFSETTO:+0000
TZNAME:UTC
DTSTART:20290101T000000
END:STANDARD
END:VTIMEZONE
BEGIN:VEVENT
DTSTART;TZID=UTC:20300801T100000
DTEND;TZID=UTC:20300801T160000
DTSTAMP:20260423T225624
CREATED:20260216T005332Z
LAST-MODIFIED:20260421T215616Z
UID:10000731-1911808800-1911830400@danvillemuseum.org
SUMMARY:Museum Open
DESCRIPTION:Museum Open to the Public \n10:00 a.m. – 4 p.m.
URL:https://danvillemuseum.org/event/5575/2030-08-01/
LOCATION:Danville Museum of Fine Arts & History\, 975 Main St\, Danville\, VA\, 24541\, United States
ORGANIZER;CN="Danville Museum of Fine Arts & History":MAILTO:info@danvillemuseum.org
END:VEVENT
BEGIN:VEVENT
DTSTART;TZID=UTC:20300802T100000
DTEND;TZID=UTC:20300802T160000
DTSTAMP:20260423T225625
CREATED:20260216T005332Z
LAST-MODIFIED:20260421T215616Z
UID:10000732-1911895200-1911916800@danvillemuseum.org
SUMMARY:Museum Open
DESCRIPTION:Museum Open to the Public \n10:00 a.m. – 4 p.m.
URL:https://danvillemuseum.org/event/5575/2030-08-02/
LOCATION:Danville Museum of Fine Arts & History\, 975 Main St\, Danville\, VA\, 24541\, United States
ORGANIZER;CN="Danville Museum of Fine Arts & History":MAILTO:info@danvillemuseum.org
END:VEVENT
BEGIN:VEVENT
DTSTART;TZID=UTC:20300803T100000
DTEND;TZID=UTC:20300803T160000
DTSTAMP:20260423T225625
CREATED:20260216T005332Z
LAST-MODIFIED:20260421T215616Z
UID:10000733-1911981600-1912003200@danvillemuseum.org
SUMMARY:Museum Open
DESCRIPTION:Museum Open to the Public \n10:00 a.m. – 4 p.m.
URL:https://danvillemuseum.org/event/5575/2030-08-03/
LOCATION:Danville Museum of Fine Arts & History\, 975 Main St\, Danville\, VA\, 24541\, United States
ORGANIZER;CN="Danville Museum of Fine Arts & History":MAILTO:info@danvillemuseum.org
END:VEVENT
BEGIN:VEVENT
DTSTART;TZID=UTC:20300804T120000
DTEND;TZID=UTC:20300804T160000
DTSTAMP:20260423T225625
CREATED:20260216T005517Z
LAST-MODIFIED:20260216T005517Z
UID:10001050-1912075200-1912089600@danvillemuseum.org
SUMMARY:Museum Open
DESCRIPTION:Museum Open to the Public \nnoon- 4 p.m.
URL:https://danvillemuseum.org/event/museum-open/2030-08-04/
LOCATION:Danville Museum of Fine Arts & History\, 975 Main St\, Danville\, VA\, 24541\, United States
ORGANIZER;CN="Danville Museum of Fine Arts & History":MAILTO:info@danvillemuseum.org
END:VEVENT
BEGIN:VEVENT
DTSTART;TZID=UTC:20300808T100000
DTEND;TZID=UTC:20300808T160000
DTSTAMP:20260423T225625
CREATED:20260216T005332Z
LAST-MODIFIED:20260421T215616Z
UID:10000734-1912413600-1912435200@danvillemuseum.org
SUMMARY:Museum Open
DESCRIPTION:Museum Open to the Public \n10:00 a.m. – 4 p.m.
URL:https://danvillemuseum.org/event/5575/2030-08-08/
LOCATION:Danville Museum of Fine Arts & History\, 975 Main St\, Danville\, VA\, 24541\, United States
ORGANIZER;CN="Danville Museum of Fine Arts & History":MAILTO:info@danvillemuseum.org
END:VEVENT
BEGIN:VEVENT
DTSTART;TZID=UTC:20300809T100000
DTEND;TZID=UTC:20300809T160000
DTSTAMP:20260423T225625
CREATED:20260216T005332Z
LAST-MODIFIED:20260421T215616Z
UID:10000735-1912500000-1912521600@danvillemuseum.org
SUMMARY:Museum Open
DESCRIPTION:Museum Open to the Public \n10:00 a.m. – 4 p.m.
URL:https://danvillemuseum.org/event/5575/2030-08-09/
LOCATION:Danville Museum of Fine Arts & History\, 975 Main St\, Danville\, VA\, 24541\, United States
ORGANIZER;CN="Danville Museum of Fine Arts & History":MAILTO:info@danvillemuseum.org
END:VEVENT
BEGIN:VEVENT
DTSTART;TZID=UTC:20300810T100000
DTEND;TZID=UTC:20300810T160000
DTSTAMP:20260423T225625
CREATED:20260216T005332Z
LAST-MODIFIED:20260421T215616Z
UID:10000736-1912586400-1912608000@danvillemuseum.org
SUMMARY:Museum Open
DESCRIPTION:Museum Open to the Public \n10:00 a.m. – 4 p.m.
URL:https://danvillemuseum.org/event/5575/2030-08-10/
LOCATION:Danville Museum of Fine Arts & History\, 975 Main St\, Danville\, VA\, 24541\, United States
ORGANIZER;CN="Danville Museum of Fine Arts & History":MAILTO:info@danvillemuseum.org
END:VEVENT
BEGIN:VEVENT
DTSTART;TZID=UTC:20300811T120000
DTEND;TZID=UTC:20300811T160000
DTSTAMP:20260423T225625
CREATED:20260216T005517Z
LAST-MODIFIED:20260216T005517Z
UID:10001051-1912680000-1912694400@danvillemuseum.org
SUMMARY:Museum Open
DESCRIPTION:Museum Open to the Public \nnoon- 4 p.m.
URL:https://danvillemuseum.org/event/museum-open/2030-08-11/
LOCATION:Danville Museum of Fine Arts & History\, 975 Main St\, Danville\, VA\, 24541\, United States
ORGANIZER;CN="Danville Museum of Fine Arts & History":MAILTO:info@danvillemuseum.org
END:VEVENT
BEGIN:VEVENT
DTSTART;TZID=UTC:20300815T100000
DTEND;TZID=UTC:20300815T160000
DTSTAMP:20260423T225625
CREATED:20260216T005332Z
LAST-MODIFIED:20260421T215616Z
UID:10000737-1913018400-1913040000@danvillemuseum.org
SUMMARY:Museum Open
DESCRIPTION:Museum Open to the Public \n10:00 a.m. – 4 p.m.
URL:https://danvillemuseum.org/event/5575/2030-08-15/
LOCATION:Danville Museum of Fine Arts & History\, 975 Main St\, Danville\, VA\, 24541\, United States
ORGANIZER;CN="Danville Museum of Fine Arts & History":MAILTO:info@danvillemuseum.org
END:VEVENT
BEGIN:VEVENT
DTSTART;TZID=UTC:20300816T100000
DTEND;TZID=UTC:20300816T160000
DTSTAMP:20260423T225625
CREATED:20260216T005332Z
LAST-MODIFIED:20260421T215616Z
UID:10000738-1913104800-1913126400@danvillemuseum.org
SUMMARY:Museum Open
DESCRIPTION:Museum Open to the Public \n10:00 a.m. – 4 p.m.
URL:https://danvillemuseum.org/event/5575/2030-08-16/
LOCATION:Danville Museum of Fine Arts & History\, 975 Main St\, Danville\, VA\, 24541\, United States
ORGANIZER;CN="Danville Museum of Fine Arts & History":MAILTO:info@danvillemuseum.org
END:VEVENT
BEGIN:VEVENT
DTSTART;TZID=UTC:20300817T100000
DTEND;TZID=UTC:20300817T160000
DTSTAMP:20260423T225625
CREATED:20260216T005332Z
LAST-MODIFIED:20260421T215616Z
UID:10000739-1913191200-1913212800@danvillemuseum.org
SUMMARY:Museum Open
DESCRIPTION:Museum Open to the Public \n10:00 a.m. – 4 p.m.
URL:https://danvillemuseum.org/event/5575/2030-08-17/
LOCATION:Danville Museum of Fine Arts & History\, 975 Main St\, Danville\, VA\, 24541\, United States
ORGANIZER;CN="Danville Museum of Fine Arts & History":MAILTO:info@danvillemuseum.org
END:VEVENT
BEGIN:VEVENT
DTSTART;TZID=UTC:20300818T120000
DTEND;TZID=UTC:20300818T160000
DTSTAMP:20260423T225625
CREATED:20260216T005517Z
LAST-MODIFIED:20260216T005517Z
UID:10001052-1913284800-1913299200@danvillemuseum.org
SUMMARY:Museum Open
DESCRIPTION:Museum Open to the Public \nnoon- 4 p.m.
URL:https://danvillemuseum.org/event/museum-open/2030-08-18/
LOCATION:Danville Museum of Fine Arts & History\, 975 Main St\, Danville\, VA\, 24541\, United States
ORGANIZER;CN="Danville Museum of Fine Arts & History":MAILTO:info@danvillemuseum.org
END:VEVENT
BEGIN:VEVENT
DTSTART;TZID=UTC:20300822T100000
DTEND;TZID=UTC:20300822T160000
DTSTAMP:20260423T225625
CREATED:20260216T005332Z
LAST-MODIFIED:20260421T215616Z
UID:10000740-1913623200-1913644800@danvillemuseum.org
SUMMARY:Museum Open
DESCRIPTION:Museum Open to the Public \n10:00 a.m. – 4 p.m.
URL:https://danvillemuseum.org/event/5575/2030-08-22/
LOCATION:Danville Museum of Fine Arts & History\, 975 Main St\, Danville\, VA\, 24541\, United States
ORGANIZER;CN="Danville Museum of Fine Arts & History":MAILTO:info@danvillemuseum.org
END:VEVENT
BEGIN:VEVENT
DTSTART;TZID=UTC:20300823T100000
DTEND;TZID=UTC:20300823T160000
DTSTAMP:20260423T225625
CREATED:20260216T005332Z
LAST-MODIFIED:20260421T215616Z
UID:10000741-1913709600-1913731200@danvillemuseum.org
SUMMARY:Museum Open
DESCRIPTION:Museum Open to the Public \n10:00 a.m. – 4 p.m.
URL:https://danvillemuseum.org/event/5575/2030-08-23/
LOCATION:Danville Museum of Fine Arts & History\, 975 Main St\, Danville\, VA\, 24541\, United States
ORGANIZER;CN="Danville Museum of Fine Arts & History":MAILTO:info@danvillemuseum.org
END:VEVENT
BEGIN:VEVENT
DTSTART;TZID=UTC:20300824T100000
DTEND;TZID=UTC:20300824T160000
DTSTAMP:20260423T225625
CREATED:20260216T005332Z
LAST-MODIFIED:20260421T215616Z
UID:10000742-1913796000-1913817600@danvillemuseum.org
SUMMARY:Museum Open
DESCRIPTION:Museum Open to the Public \n10:00 a.m. – 4 p.m.
URL:https://danvillemuseum.org/event/5575/2030-08-24/
LOCATION:Danville Museum of Fine Arts & History\, 975 Main St\, Danville\, VA\, 24541\, United States
ORGANIZER;CN="Danville Museum of Fine Arts & History":MAILTO:info@danvillemuseum.org
END:VEVENT
BEGIN:VEVENT
DTSTART;TZID=UTC:20300825T120000
DTEND;TZID=UTC:20300825T160000
DTSTAMP:20260423T225625
CREATED:20260216T005517Z
LAST-MODIFIED:20260216T005517Z
UID:10001053-1913889600-1913904000@danvillemuseum.org
SUMMARY:Museum Open
DESCRIPTION:Museum Open to the Public \nnoon- 4 p.m.
URL:https://danvillemuseum.org/event/museum-open/2030-08-25/
LOCATION:Danville Museum of Fine Arts & History\, 975 Main St\, Danville\, VA\, 24541\, United States
ORGANIZER;CN="Danville Museum of Fine Arts & History":MAILTO:info@danvillemuseum.org
END:VEVENT
BEGIN:VEVENT
DTSTART;TZID=UTC:20300829T100000
DTEND;TZID=UTC:20300829T160000
DTSTAMP:20260423T225625
CREATED:20260216T005332Z
LAST-MODIFIED:20260421T215616Z
UID:10000743-1914228000-1914249600@danvillemuseum.org
SUMMARY:Museum Open
DESCRIPTION:Museum Open to the Public \n10:00 a.m. – 4 p.m.
URL:https://danvillemuseum.org/event/5575/2030-08-29/
LOCATION:Danville Museum of Fine Arts & History\, 975 Main St\, Danville\, VA\, 24541\, United States
ORGANIZER;CN="Danville Museum of Fine Arts & History":MAILTO:info@danvillemuseum.org
END:VEVENT
BEGIN:VEVENT
DTSTART;TZID=UTC:20300830T100000
DTEND;TZID=UTC:20300830T160000
DTSTAMP:20260423T225625
CREATED:20260216T005332Z
LAST-MODIFIED:20260421T215616Z
UID:10000744-1914314400-1914336000@danvillemuseum.org
SUMMARY:Museum Open
DESCRIPTION:Museum Open to the Public \n10:00 a.m. – 4 p.m.
URL:https://danvillemuseum.org/event/5575/2030-08-30/
LOCATION:Danville Museum of Fine Arts & History\, 975 Main St\, Danville\, VA\, 24541\, United States
ORGANIZER;CN="Danville Museum of Fine Arts & History":MAILTO:info@danvillemuseum.org
END:VEVENT
BEGIN:VEVENT
DTSTART;TZID=UTC:20300831T100000
DTEND;TZID=UTC:20300831T160000
DTSTAMP:20260423T225625
CREATED:20260216T005332Z
LAST-MODIFIED:20260421T215616Z
UID:10000745-1914400800-1914422400@danvillemuseum.org
SUMMARY:Museum Open
DESCRIPTION:Museum Open to the Public \n10:00 a.m. – 4 p.m.
URL:https://danvillemuseum.org/event/5575/2030-08-31/
LOCATION:Danville Museum of Fine Arts & History\, 975 Main St\, Danville\, VA\, 24541\, United States
ORGANIZER;CN="Danville Museum of Fine Arts & History":MAILTO:info@danvillemuseum.org
END:VEVENT
BEGIN:VEVENT
DTSTART;TZID=UTC:20300901T120000
DTEND;TZID=UTC:20300901T160000
DTSTAMP:20260423T225625
CREATED:20260216T005517Z
LAST-MODIFIED:20260216T005517Z
UID:10001054-1914494400-1914508800@danvillemuseum.org
SUMMARY:Museum Open
DESCRIPTION:Museum Open to the Public \nnoon- 4 p.m.
URL:https://danvillemuseum.org/event/museum-open/2030-09-01/
LOCATION:Danville Museum of Fine Arts & History\, 975 Main St\, Danville\, VA\, 24541\, United States
ORGANIZER;CN="Danville Museum of Fine Arts & History":MAILTO:info@danvillemuseum.org
END:VEVENT
BEGIN:VEVENT
DTSTART;TZID=UTC:20300905T100000
DTEND;TZID=UTC:20300905T160000
DTSTAMP:20260423T225625
CREATED:20260216T005332Z
LAST-MODIFIED:20260421T215616Z
UID:10000746-1914832800-1914854400@danvillemuseum.org
SUMMARY:Museum Open
DESCRIPTION:Museum Open to the Public \n10:00 a.m. – 4 p.m.
URL:https://danvillemuseum.org/event/5575/2030-09-05/
LOCATION:Danville Museum of Fine Arts & History\, 975 Main St\, Danville\, VA\, 24541\, United States
ORGANIZER;CN="Danville Museum of Fine Arts & History":MAILTO:info@danvillemuseum.org
END:VEVENT
BEGIN:VEVENT
DTSTART;TZID=UTC:20300906T100000
DTEND;TZID=UTC:20300906T160000
DTSTAMP:20260423T225625
CREATED:20260216T005332Z
LAST-MODIFIED:20260421T215616Z
UID:10000747-1914919200-1914940800@danvillemuseum.org
SUMMARY:Museum Open
DESCRIPTION:Museum Open to the Public \n10:00 a.m. – 4 p.m.
URL:https://danvillemuseum.org/event/5575/2030-09-06/
LOCATION:Danville Museum of Fine Arts & History\, 975 Main St\, Danville\, VA\, 24541\, United States
ORGANIZER;CN="Danville Museum of Fine Arts & History":MAILTO:info@danvillemuseum.org
END:VEVENT
BEGIN:VEVENT
DTSTART;TZID=UTC:20300907T100000
DTEND;TZID=UTC:20300907T160000
DTSTAMP:20260423T225625
CREATED:20260216T005332Z
LAST-MODIFIED:20260421T215616Z
UID:10000748-1915005600-1915027200@danvillemuseum.org
SUMMARY:Museum Open
DESCRIPTION:Museum Open to the Public \n10:00 a.m. – 4 p.m.
URL:https://danvillemuseum.org/event/5575/2030-09-07/
LOCATION:Danville Museum of Fine Arts & History\, 975 Main St\, Danville\, VA\, 24541\, United States
ORGANIZER;CN="Danville Museum of Fine Arts & History":MAILTO:info@danvillemuseum.org
END:VEVENT
BEGIN:VEVENT
DTSTART;TZID=UTC:20300908T120000
DTEND;TZID=UTC:20300908T160000
DTSTAMP:20260423T225625
CREATED:20260216T005517Z
LAST-MODIFIED:20260216T005517Z
UID:10001055-1915099200-1915113600@danvillemuseum.org
SUMMARY:Museum Open
DESCRIPTION:Museum Open to the Public \nnoon- 4 p.m.
URL:https://danvillemuseum.org/event/museum-open/2030-09-08/
LOCATION:Danville Museum of Fine Arts & History\, 975 Main St\, Danville\, VA\, 24541\, United States
ORGANIZER;CN="Danville Museum of Fine Arts & History":MAILTO:info@danvillemuseum.org
END:VEVENT
BEGIN:VEVENT
DTSTART;TZID=UTC:20300912T100000
DTEND;TZID=UTC:20300912T160000
DTSTAMP:20260423T225625
CREATED:20260216T005332Z
LAST-MODIFIED:20260421T215616Z
UID:10000749-1915437600-1915459200@danvillemuseum.org
SUMMARY:Museum Open
DESCRIPTION:Museum Open to the Public \n10:00 a.m. – 4 p.m.
URL:https://danvillemuseum.org/event/5575/2030-09-12/
LOCATION:Danville Museum of Fine Arts & History\, 975 Main St\, Danville\, VA\, 24541\, United States
ORGANIZER;CN="Danville Museum of Fine Arts & History":MAILTO:info@danvillemuseum.org
END:VEVENT
BEGIN:VEVENT
DTSTART;TZID=UTC:20300913T100000
DTEND;TZID=UTC:20300913T160000
DTSTAMP:20260423T225625
CREATED:20260216T005332Z
LAST-MODIFIED:20260421T215616Z
UID:10000750-1915524000-1915545600@danvillemuseum.org
SUMMARY:Museum Open
DESCRIPTION:Museum Open to the Public \n10:00 a.m. – 4 p.m.
URL:https://danvillemuseum.org/event/5575/2030-09-13/
LOCATION:Danville Museum of Fine Arts & History\, 975 Main St\, Danville\, VA\, 24541\, United States
ORGANIZER;CN="Danville Museum of Fine Arts & History":MAILTO:info@danvillemuseum.org
END:VEVENT
BEGIN:VEVENT
DTSTART;TZID=UTC:20300914T100000
DTEND;TZID=UTC:20300914T160000
DTSTAMP:20260423T225625
CREATED:20260216T005332Z
LAST-MODIFIED:20260421T215616Z
UID:10000751-1915610400-1915632000@danvillemuseum.org
SUMMARY:Museum Open
DESCRIPTION:Museum Open to the Public \n10:00 a.m. – 4 p.m.
URL:https://danvillemuseum.org/event/5575/2030-09-14/
LOCATION:Danville Museum of Fine Arts & History\, 975 Main St\, Danville\, VA\, 24541\, United States
ORGANIZER;CN="Danville Museum of Fine Arts & History":MAILTO:info@danvillemuseum.org
END:VEVENT
BEGIN:VEVENT
DTSTART;TZID=UTC:20300915T120000
DTEND;TZID=UTC:20300915T160000
DTSTAMP:20260423T225625
CREATED:20260216T005517Z
LAST-MODIFIED:20260216T005517Z
UID:10001056-1915704000-1915718400@danvillemuseum.org
SUMMARY:Museum Open
DESCRIPTION:Museum Open to the Public \nnoon- 4 p.m.
URL:https://danvillemuseum.org/event/museum-open/2030-09-15/
LOCATION:Danville Museum of Fine Arts & History\, 975 Main St\, Danville\, VA\, 24541\, United States
ORGANIZER;CN="Danville Museum of Fine Arts & History":MAILTO:info@danvillemuseum.org
END:VEVENT
BEGIN:VEVENT
DTSTART;TZID=UTC:20300919T100000
DTEND;TZID=UTC:20300919T160000
DTSTAMP:20260423T225625
CREATED:20260216T005332Z
LAST-MODIFIED:20260421T215616Z
UID:10000752-1916042400-1916064000@danvillemuseum.org
SUMMARY:Museum Open
DESCRIPTION:Museum Open to the Public \n10:00 a.m. – 4 p.m.
URL:https://danvillemuseum.org/event/5575/2030-09-19/
LOCATION:Danville Museum of Fine Arts & History\, 975 Main St\, Danville\, VA\, 24541\, United States
ORGANIZER;CN="Danville Museum of Fine Arts & History":MAILTO:info@danvillemuseum.org
END:VEVENT
BEGIN:VEVENT
DTSTART;TZID=UTC:20300920T100000
DTEND;TZID=UTC:20300920T160000
DTSTAMP:20260423T225625
CREATED:20260216T005332Z
LAST-MODIFIED:20260421T215616Z
UID:10000753-1916128800-1916150400@danvillemuseum.org
SUMMARY:Museum Open
DESCRIPTION:Museum Open to the Public \n10:00 a.m. – 4 p.m.
URL:https://danvillemuseum.org/event/5575/2030-09-20/
LOCATION:Danville Museum of Fine Arts & History\, 975 Main St\, Danville\, VA\, 24541\, United States
ORGANIZER;CN="Danville Museum of Fine Arts & History":MAILTO:info@danvillemuseum.org
END:VEVENT
END:VCALENDAR