BEGIN:VCALENDAR
VERSION:2.0
PRODID:-//Danville Museum of Fine Arts &amp; History - ECPv6.15.18//NONSGML v1.0//EN
CALSCALE:GREGORIAN
METHOD:PUBLISH
X-WR-CALNAME:Danville Museum of Fine Arts &amp; History
X-ORIGINAL-URL:https://danvillemuseum.org
X-WR-CALDESC:Events for Danville Museum of Fine Arts &amp; History
REFRESH-INTERVAL;VALUE=DURATION:PT1H
X-Robots-Tag:noindex
X-PUBLISHED-TTL:PT1H
BEGIN:VTIMEZONE
TZID:UTC
BEGIN:STANDARD
TZOFFSETFROM:+0000
TZOFFSETTO:+0000
TZNAME:UTC
DTSTART:20290101T000000
END:STANDARD
END:VTIMEZONE
BEGIN:VEVENT
DTSTART;TZID=UTC:20300915T120000
DTEND;TZID=UTC:20300915T160000
DTSTAMP:20260424T002308
CREATED:20260216T005517Z
LAST-MODIFIED:20260216T005517Z
UID:10001056-1915704000-1915718400@danvillemuseum.org
SUMMARY:Museum Open
DESCRIPTION:Museum Open to the Public \nnoon- 4 p.m.
URL:https://danvillemuseum.org/event/museum-open/2030-09-15/
LOCATION:Danville Museum of Fine Arts & History\, 975 Main St\, Danville\, VA\, 24541\, United States
ORGANIZER;CN="Danville Museum of Fine Arts & History":MAILTO:info@danvillemuseum.org
END:VEVENT
BEGIN:VEVENT
DTSTART;TZID=UTC:20300919T100000
DTEND;TZID=UTC:20300919T160000
DTSTAMP:20260424T002308
CREATED:20260216T005332Z
LAST-MODIFIED:20260421T215616Z
UID:10000752-1916042400-1916064000@danvillemuseum.org
SUMMARY:Museum Open
DESCRIPTION:Museum Open to the Public \n10:00 a.m. – 4 p.m.
URL:https://danvillemuseum.org/event/5575/2030-09-19/
LOCATION:Danville Museum of Fine Arts & History\, 975 Main St\, Danville\, VA\, 24541\, United States
ORGANIZER;CN="Danville Museum of Fine Arts & History":MAILTO:info@danvillemuseum.org
END:VEVENT
BEGIN:VEVENT
DTSTART;TZID=UTC:20300920T100000
DTEND;TZID=UTC:20300920T160000
DTSTAMP:20260424T002308
CREATED:20260216T005332Z
LAST-MODIFIED:20260421T215616Z
UID:10000753-1916128800-1916150400@danvillemuseum.org
SUMMARY:Museum Open
DESCRIPTION:Museum Open to the Public \n10:00 a.m. – 4 p.m.
URL:https://danvillemuseum.org/event/5575/2030-09-20/
LOCATION:Danville Museum of Fine Arts & History\, 975 Main St\, Danville\, VA\, 24541\, United States
ORGANIZER;CN="Danville Museum of Fine Arts & History":MAILTO:info@danvillemuseum.org
END:VEVENT
BEGIN:VEVENT
DTSTART;TZID=UTC:20300921T100000
DTEND;TZID=UTC:20300921T160000
DTSTAMP:20260424T002308
CREATED:20260216T005332Z
LAST-MODIFIED:20260421T215616Z
UID:10000754-1916215200-1916236800@danvillemuseum.org
SUMMARY:Museum Open
DESCRIPTION:Museum Open to the Public \n10:00 a.m. – 4 p.m.
URL:https://danvillemuseum.org/event/5575/2030-09-21/
LOCATION:Danville Museum of Fine Arts & History\, 975 Main St\, Danville\, VA\, 24541\, United States
ORGANIZER;CN="Danville Museum of Fine Arts & History":MAILTO:info@danvillemuseum.org
END:VEVENT
BEGIN:VEVENT
DTSTART;TZID=UTC:20300922T120000
DTEND;TZID=UTC:20300922T160000
DTSTAMP:20260424T002308
CREATED:20260216T005517Z
LAST-MODIFIED:20260216T005517Z
UID:10001057-1916308800-1916323200@danvillemuseum.org
SUMMARY:Museum Open
DESCRIPTION:Museum Open to the Public \nnoon- 4 p.m.
URL:https://danvillemuseum.org/event/museum-open/2030-09-22/
LOCATION:Danville Museum of Fine Arts & History\, 975 Main St\, Danville\, VA\, 24541\, United States
ORGANIZER;CN="Danville Museum of Fine Arts & History":MAILTO:info@danvillemuseum.org
END:VEVENT
BEGIN:VEVENT
DTSTART;TZID=UTC:20300926T100000
DTEND;TZID=UTC:20300926T160000
DTSTAMP:20260424T002308
CREATED:20260216T005332Z
LAST-MODIFIED:20260421T215616Z
UID:10000755-1916647200-1916668800@danvillemuseum.org
SUMMARY:Museum Open
DESCRIPTION:Museum Open to the Public \n10:00 a.m. – 4 p.m.
URL:https://danvillemuseum.org/event/5575/2030-09-26/
LOCATION:Danville Museum of Fine Arts & History\, 975 Main St\, Danville\, VA\, 24541\, United States
ORGANIZER;CN="Danville Museum of Fine Arts & History":MAILTO:info@danvillemuseum.org
END:VEVENT
BEGIN:VEVENT
DTSTART;TZID=UTC:20300927T100000
DTEND;TZID=UTC:20300927T160000
DTSTAMP:20260424T002308
CREATED:20260216T005332Z
LAST-MODIFIED:20260421T215616Z
UID:10000756-1916733600-1916755200@danvillemuseum.org
SUMMARY:Museum Open
DESCRIPTION:Museum Open to the Public \n10:00 a.m. – 4 p.m.
URL:https://danvillemuseum.org/event/5575/2030-09-27/
LOCATION:Danville Museum of Fine Arts & History\, 975 Main St\, Danville\, VA\, 24541\, United States
ORGANIZER;CN="Danville Museum of Fine Arts & History":MAILTO:info@danvillemuseum.org
END:VEVENT
BEGIN:VEVENT
DTSTART;TZID=UTC:20300928T100000
DTEND;TZID=UTC:20300928T160000
DTSTAMP:20260424T002308
CREATED:20260216T005332Z
LAST-MODIFIED:20260421T215616Z
UID:10000757-1916820000-1916841600@danvillemuseum.org
SUMMARY:Museum Open
DESCRIPTION:Museum Open to the Public \n10:00 a.m. – 4 p.m.
URL:https://danvillemuseum.org/event/5575/2030-09-28/
LOCATION:Danville Museum of Fine Arts & History\, 975 Main St\, Danville\, VA\, 24541\, United States
ORGANIZER;CN="Danville Museum of Fine Arts & History":MAILTO:info@danvillemuseum.org
END:VEVENT
BEGIN:VEVENT
DTSTART;TZID=UTC:20300929T120000
DTEND;TZID=UTC:20300929T160000
DTSTAMP:20260424T002308
CREATED:20260216T005517Z
LAST-MODIFIED:20260216T005517Z
UID:10001058-1916913600-1916928000@danvillemuseum.org
SUMMARY:Museum Open
DESCRIPTION:Museum Open to the Public \nnoon- 4 p.m.
URL:https://danvillemuseum.org/event/museum-open/2030-09-29/
LOCATION:Danville Museum of Fine Arts & History\, 975 Main St\, Danville\, VA\, 24541\, United States
ORGANIZER;CN="Danville Museum of Fine Arts & History":MAILTO:info@danvillemuseum.org
END:VEVENT
BEGIN:VEVENT
DTSTART;TZID=UTC:20301003T100000
DTEND;TZID=UTC:20301003T160000
DTSTAMP:20260424T002308
CREATED:20260216T005332Z
LAST-MODIFIED:20260421T215616Z
UID:10000758-1917252000-1917273600@danvillemuseum.org
SUMMARY:Museum Open
DESCRIPTION:Museum Open to the Public \n10:00 a.m. – 4 p.m.
URL:https://danvillemuseum.org/event/5575/2030-10-03/
LOCATION:Danville Museum of Fine Arts & History\, 975 Main St\, Danville\, VA\, 24541\, United States
ORGANIZER;CN="Danville Museum of Fine Arts & History":MAILTO:info@danvillemuseum.org
END:VEVENT
BEGIN:VEVENT
DTSTART;TZID=UTC:20301004T100000
DTEND;TZID=UTC:20301004T160000
DTSTAMP:20260424T002308
CREATED:20260216T005332Z
LAST-MODIFIED:20260421T215616Z
UID:10000759-1917338400-1917360000@danvillemuseum.org
SUMMARY:Museum Open
DESCRIPTION:Museum Open to the Public \n10:00 a.m. – 4 p.m.
URL:https://danvillemuseum.org/event/5575/2030-10-04/
LOCATION:Danville Museum of Fine Arts & History\, 975 Main St\, Danville\, VA\, 24541\, United States
ORGANIZER;CN="Danville Museum of Fine Arts & History":MAILTO:info@danvillemuseum.org
END:VEVENT
BEGIN:VEVENT
DTSTART;TZID=UTC:20301005T100000
DTEND;TZID=UTC:20301005T160000
DTSTAMP:20260424T002308
CREATED:20260216T005332Z
LAST-MODIFIED:20260421T215616Z
UID:10000760-1917424800-1917446400@danvillemuseum.org
SUMMARY:Museum Open
DESCRIPTION:Museum Open to the Public \n10:00 a.m. – 4 p.m.
URL:https://danvillemuseum.org/event/5575/2030-10-05/
LOCATION:Danville Museum of Fine Arts & History\, 975 Main St\, Danville\, VA\, 24541\, United States
ORGANIZER;CN="Danville Museum of Fine Arts & History":MAILTO:info@danvillemuseum.org
END:VEVENT
BEGIN:VEVENT
DTSTART;TZID=UTC:20301006T120000
DTEND;TZID=UTC:20301006T160000
DTSTAMP:20260424T002308
CREATED:20260216T005517Z
LAST-MODIFIED:20260216T005517Z
UID:10001059-1917518400-1917532800@danvillemuseum.org
SUMMARY:Museum Open
DESCRIPTION:Museum Open to the Public \nnoon- 4 p.m.
URL:https://danvillemuseum.org/event/museum-open/2030-10-06/
LOCATION:Danville Museum of Fine Arts & History\, 975 Main St\, Danville\, VA\, 24541\, United States
ORGANIZER;CN="Danville Museum of Fine Arts & History":MAILTO:info@danvillemuseum.org
END:VEVENT
BEGIN:VEVENT
DTSTART;TZID=UTC:20301010T100000
DTEND;TZID=UTC:20301010T160000
DTSTAMP:20260424T002308
CREATED:20260216T005332Z
LAST-MODIFIED:20260421T215616Z
UID:10000761-1917856800-1917878400@danvillemuseum.org
SUMMARY:Museum Open
DESCRIPTION:Museum Open to the Public \n10:00 a.m. – 4 p.m.
URL:https://danvillemuseum.org/event/5575/2030-10-10/
LOCATION:Danville Museum of Fine Arts & History\, 975 Main St\, Danville\, VA\, 24541\, United States
ORGANIZER;CN="Danville Museum of Fine Arts & History":MAILTO:info@danvillemuseum.org
END:VEVENT
BEGIN:VEVENT
DTSTART;TZID=UTC:20301011T100000
DTEND;TZID=UTC:20301011T160000
DTSTAMP:20260424T002308
CREATED:20260216T005332Z
LAST-MODIFIED:20260421T215616Z
UID:10000762-1917943200-1917964800@danvillemuseum.org
SUMMARY:Museum Open
DESCRIPTION:Museum Open to the Public \n10:00 a.m. – 4 p.m.
URL:https://danvillemuseum.org/event/5575/2030-10-11/
LOCATION:Danville Museum of Fine Arts & History\, 975 Main St\, Danville\, VA\, 24541\, United States
ORGANIZER;CN="Danville Museum of Fine Arts & History":MAILTO:info@danvillemuseum.org
END:VEVENT
BEGIN:VEVENT
DTSTART;TZID=UTC:20301012T100000
DTEND;TZID=UTC:20301012T160000
DTSTAMP:20260424T002308
CREATED:20260216T005332Z
LAST-MODIFIED:20260421T215616Z
UID:10000763-1918029600-1918051200@danvillemuseum.org
SUMMARY:Museum Open
DESCRIPTION:Museum Open to the Public \n10:00 a.m. – 4 p.m.
URL:https://danvillemuseum.org/event/5575/2030-10-12/
LOCATION:Danville Museum of Fine Arts & History\, 975 Main St\, Danville\, VA\, 24541\, United States
ORGANIZER;CN="Danville Museum of Fine Arts & History":MAILTO:info@danvillemuseum.org
END:VEVENT
BEGIN:VEVENT
DTSTART;TZID=UTC:20301013T120000
DTEND;TZID=UTC:20301013T160000
DTSTAMP:20260424T002308
CREATED:20260216T005517Z
LAST-MODIFIED:20260216T005517Z
UID:10001060-1918123200-1918137600@danvillemuseum.org
SUMMARY:Museum Open
DESCRIPTION:Museum Open to the Public \nnoon- 4 p.m.
URL:https://danvillemuseum.org/event/museum-open/2030-10-13/
LOCATION:Danville Museum of Fine Arts & History\, 975 Main St\, Danville\, VA\, 24541\, United States
ORGANIZER;CN="Danville Museum of Fine Arts & History":MAILTO:info@danvillemuseum.org
END:VEVENT
BEGIN:VEVENT
DTSTART;TZID=UTC:20301017T100000
DTEND;TZID=UTC:20301017T160000
DTSTAMP:20260424T002308
CREATED:20260216T005332Z
LAST-MODIFIED:20260421T215616Z
UID:10000764-1918461600-1918483200@danvillemuseum.org
SUMMARY:Museum Open
DESCRIPTION:Museum Open to the Public \n10:00 a.m. – 4 p.m.
URL:https://danvillemuseum.org/event/5575/2030-10-17/
LOCATION:Danville Museum of Fine Arts & History\, 975 Main St\, Danville\, VA\, 24541\, United States
ORGANIZER;CN="Danville Museum of Fine Arts & History":MAILTO:info@danvillemuseum.org
END:VEVENT
BEGIN:VEVENT
DTSTART;TZID=UTC:20301018T100000
DTEND;TZID=UTC:20301018T160000
DTSTAMP:20260424T002308
CREATED:20260216T005332Z
LAST-MODIFIED:20260421T215616Z
UID:10000765-1918548000-1918569600@danvillemuseum.org
SUMMARY:Museum Open
DESCRIPTION:Museum Open to the Public \n10:00 a.m. – 4 p.m.
URL:https://danvillemuseum.org/event/5575/2030-10-18/
LOCATION:Danville Museum of Fine Arts & History\, 975 Main St\, Danville\, VA\, 24541\, United States
ORGANIZER;CN="Danville Museum of Fine Arts & History":MAILTO:info@danvillemuseum.org
END:VEVENT
BEGIN:VEVENT
DTSTART;TZID=UTC:20301019T100000
DTEND;TZID=UTC:20301019T160000
DTSTAMP:20260424T002308
CREATED:20260216T005332Z
LAST-MODIFIED:20260421T215616Z
UID:10000766-1918634400-1918656000@danvillemuseum.org
SUMMARY:Museum Open
DESCRIPTION:Museum Open to the Public \n10:00 a.m. – 4 p.m.
URL:https://danvillemuseum.org/event/5575/2030-10-19/
LOCATION:Danville Museum of Fine Arts & History\, 975 Main St\, Danville\, VA\, 24541\, United States
ORGANIZER;CN="Danville Museum of Fine Arts & History":MAILTO:info@danvillemuseum.org
END:VEVENT
BEGIN:VEVENT
DTSTART;TZID=UTC:20301020T120000
DTEND;TZID=UTC:20301020T160000
DTSTAMP:20260424T002308
CREATED:20260216T005517Z
LAST-MODIFIED:20260216T005517Z
UID:10001061-1918728000-1918742400@danvillemuseum.org
SUMMARY:Museum Open
DESCRIPTION:Museum Open to the Public \nnoon- 4 p.m.
URL:https://danvillemuseum.org/event/museum-open/2030-10-20/
LOCATION:Danville Museum of Fine Arts & History\, 975 Main St\, Danville\, VA\, 24541\, United States
ORGANIZER;CN="Danville Museum of Fine Arts & History":MAILTO:info@danvillemuseum.org
END:VEVENT
BEGIN:VEVENT
DTSTART;TZID=UTC:20301024T100000
DTEND;TZID=UTC:20301024T160000
DTSTAMP:20260424T002308
CREATED:20260216T005332Z
LAST-MODIFIED:20260421T215616Z
UID:10000767-1919066400-1919088000@danvillemuseum.org
SUMMARY:Museum Open
DESCRIPTION:Museum Open to the Public \n10:00 a.m. – 4 p.m.
URL:https://danvillemuseum.org/event/5575/2030-10-24/
LOCATION:Danville Museum of Fine Arts & History\, 975 Main St\, Danville\, VA\, 24541\, United States
ORGANIZER;CN="Danville Museum of Fine Arts & History":MAILTO:info@danvillemuseum.org
END:VEVENT
BEGIN:VEVENT
DTSTART;TZID=UTC:20301025T100000
DTEND;TZID=UTC:20301025T160000
DTSTAMP:20260424T002308
CREATED:20260216T005332Z
LAST-MODIFIED:20260421T215616Z
UID:10000768-1919152800-1919174400@danvillemuseum.org
SUMMARY:Museum Open
DESCRIPTION:Museum Open to the Public \n10:00 a.m. – 4 p.m.
URL:https://danvillemuseum.org/event/5575/2030-10-25/
LOCATION:Danville Museum of Fine Arts & History\, 975 Main St\, Danville\, VA\, 24541\, United States
ORGANIZER;CN="Danville Museum of Fine Arts & History":MAILTO:info@danvillemuseum.org
END:VEVENT
BEGIN:VEVENT
DTSTART;TZID=UTC:20301026T100000
DTEND;TZID=UTC:20301026T160000
DTSTAMP:20260424T002308
CREATED:20260216T005332Z
LAST-MODIFIED:20260421T215616Z
UID:10000769-1919239200-1919260800@danvillemuseum.org
SUMMARY:Museum Open
DESCRIPTION:Museum Open to the Public \n10:00 a.m. – 4 p.m.
URL:https://danvillemuseum.org/event/5575/2030-10-26/
LOCATION:Danville Museum of Fine Arts & History\, 975 Main St\, Danville\, VA\, 24541\, United States
ORGANIZER;CN="Danville Museum of Fine Arts & History":MAILTO:info@danvillemuseum.org
END:VEVENT
BEGIN:VEVENT
DTSTART;TZID=UTC:20301027T120000
DTEND;TZID=UTC:20301027T160000
DTSTAMP:20260424T002308
CREATED:20260216T005517Z
LAST-MODIFIED:20260216T005517Z
UID:10001062-1919332800-1919347200@danvillemuseum.org
SUMMARY:Museum Open
DESCRIPTION:Museum Open to the Public \nnoon- 4 p.m.
URL:https://danvillemuseum.org/event/museum-open/2030-10-27/
LOCATION:Danville Museum of Fine Arts & History\, 975 Main St\, Danville\, VA\, 24541\, United States
ORGANIZER;CN="Danville Museum of Fine Arts & History":MAILTO:info@danvillemuseum.org
END:VEVENT
BEGIN:VEVENT
DTSTART;TZID=UTC:20301031T100000
DTEND;TZID=UTC:20301031T160000
DTSTAMP:20260424T002308
CREATED:20260216T005332Z
LAST-MODIFIED:20260421T215616Z
UID:10000770-1919671200-1919692800@danvillemuseum.org
SUMMARY:Museum Open
DESCRIPTION:Museum Open to the Public \n10:00 a.m. – 4 p.m.
URL:https://danvillemuseum.org/event/5575/2030-10-31/
LOCATION:Danville Museum of Fine Arts & History\, 975 Main St\, Danville\, VA\, 24541\, United States
ORGANIZER;CN="Danville Museum of Fine Arts & History":MAILTO:info@danvillemuseum.org
END:VEVENT
BEGIN:VEVENT
DTSTART;TZID=UTC:20301101T100000
DTEND;TZID=UTC:20301101T160000
DTSTAMP:20260424T002308
CREATED:20260216T005332Z
LAST-MODIFIED:20260421T215616Z
UID:10000771-1919757600-1919779200@danvillemuseum.org
SUMMARY:Museum Open
DESCRIPTION:Museum Open to the Public \n10:00 a.m. – 4 p.m.
URL:https://danvillemuseum.org/event/5575/2030-11-01/
LOCATION:Danville Museum of Fine Arts & History\, 975 Main St\, Danville\, VA\, 24541\, United States
ORGANIZER;CN="Danville Museum of Fine Arts & History":MAILTO:info@danvillemuseum.org
END:VEVENT
BEGIN:VEVENT
DTSTART;TZID=UTC:20301102T100000
DTEND;TZID=UTC:20301102T160000
DTSTAMP:20260424T002308
CREATED:20260216T005332Z
LAST-MODIFIED:20260421T215616Z
UID:10000772-1919844000-1919865600@danvillemuseum.org
SUMMARY:Museum Open
DESCRIPTION:Museum Open to the Public \n10:00 a.m. – 4 p.m.
URL:https://danvillemuseum.org/event/5575/2030-11-02/
LOCATION:Danville Museum of Fine Arts & History\, 975 Main St\, Danville\, VA\, 24541\, United States
ORGANIZER;CN="Danville Museum of Fine Arts & History":MAILTO:info@danvillemuseum.org
END:VEVENT
BEGIN:VEVENT
DTSTART;TZID=UTC:20301103T120000
DTEND;TZID=UTC:20301103T160000
DTSTAMP:20260424T002308
CREATED:20260216T005517Z
LAST-MODIFIED:20260216T005517Z
UID:10001063-1919937600-1919952000@danvillemuseum.org
SUMMARY:Museum Open
DESCRIPTION:Museum Open to the Public \nnoon- 4 p.m.
URL:https://danvillemuseum.org/event/museum-open/2030-11-03/
LOCATION:Danville Museum of Fine Arts & History\, 975 Main St\, Danville\, VA\, 24541\, United States
ORGANIZER;CN="Danville Museum of Fine Arts & History":MAILTO:info@danvillemuseum.org
END:VEVENT
BEGIN:VEVENT
DTSTART;TZID=UTC:20301107T100000
DTEND;TZID=UTC:20301107T160000
DTSTAMP:20260424T002308
CREATED:20260216T005332Z
LAST-MODIFIED:20260421T215616Z
UID:10000773-1920276000-1920297600@danvillemuseum.org
SUMMARY:Museum Open
DESCRIPTION:Museum Open to the Public \n10:00 a.m. – 4 p.m.
URL:https://danvillemuseum.org/event/5575/2030-11-07/
LOCATION:Danville Museum of Fine Arts & History\, 975 Main St\, Danville\, VA\, 24541\, United States
ORGANIZER;CN="Danville Museum of Fine Arts & History":MAILTO:info@danvillemuseum.org
END:VEVENT
END:VCALENDAR