BEGIN:VCALENDAR
VERSION:2.0
PRODID:-//Danville Museum of Fine Arts &amp; History - ECPv6.15.18//NONSGML v1.0//EN
CALSCALE:GREGORIAN
METHOD:PUBLISH
X-ORIGINAL-URL:https://danvillemuseum.org
X-WR-CALDESC:Events for Danville Museum of Fine Arts &amp; History
REFRESH-INTERVAL;VALUE=DURATION:PT1H
X-Robots-Tag:noindex
X-PUBLISHED-TTL:PT1H
BEGIN:VTIMEZONE
TZID:UTC
BEGIN:STANDARD
TZOFFSETFROM:+0000
TZOFFSETTO:+0000
TZNAME:UTC
DTSTART:20290101T000000
END:STANDARD
END:VTIMEZONE
BEGIN:VEVENT
DTSTART;TZID=UTC:20300412T100000
DTEND;TZID=UTC:20300412T160000
DTSTAMP:20260423T130628
CREATED:20260216T005332Z
LAST-MODIFIED:20260421T215616Z
UID:10000684-1902218400-1902240000@danvillemuseum.org
SUMMARY:Museum Open
DESCRIPTION:Museum Open to the Public \n10:00 a.m. – 4 p.m.
URL:https://danvillemuseum.org/event/5575/2030-04-12/
LOCATION:Danville Museum of Fine Arts & History\, 975 Main St\, Danville\, VA\, 24541\, United States
ORGANIZER;CN="Danville Museum of Fine Arts & History":MAILTO:info@danvillemuseum.org
END:VEVENT
BEGIN:VEVENT
DTSTART;TZID=UTC:20300413T100000
DTEND;TZID=UTC:20300413T160000
DTSTAMP:20260423T130628
CREATED:20260216T005332Z
LAST-MODIFIED:20260421T215616Z
UID:10000685-1902304800-1902326400@danvillemuseum.org
SUMMARY:Museum Open
DESCRIPTION:Museum Open to the Public \n10:00 a.m. – 4 p.m.
URL:https://danvillemuseum.org/event/5575/2030-04-13/
LOCATION:Danville Museum of Fine Arts & History\, 975 Main St\, Danville\, VA\, 24541\, United States
ORGANIZER;CN="Danville Museum of Fine Arts & History":MAILTO:info@danvillemuseum.org
END:VEVENT
BEGIN:VEVENT
DTSTART;TZID=UTC:20300414T120000
DTEND;TZID=UTC:20300414T160000
DTSTAMP:20260423T130628
CREATED:20260216T005517Z
LAST-MODIFIED:20260216T005517Z
UID:10001034-1902398400-1902412800@danvillemuseum.org
SUMMARY:Museum Open
DESCRIPTION:Museum Open to the Public \nnoon- 4 p.m.
URL:https://danvillemuseum.org/event/museum-open/2030-04-14/
LOCATION:Danville Museum of Fine Arts & History\, 975 Main St\, Danville\, VA\, 24541\, United States
ORGANIZER;CN="Danville Museum of Fine Arts & History":MAILTO:info@danvillemuseum.org
END:VEVENT
BEGIN:VEVENT
DTSTART;TZID=UTC:20300418T100000
DTEND;TZID=UTC:20300418T160000
DTSTAMP:20260423T130628
CREATED:20260216T005332Z
LAST-MODIFIED:20260421T215616Z
UID:10000686-1902736800-1902758400@danvillemuseum.org
SUMMARY:Museum Open
DESCRIPTION:Museum Open to the Public \n10:00 a.m. – 4 p.m.
URL:https://danvillemuseum.org/event/5575/2030-04-18/
LOCATION:Danville Museum of Fine Arts & History\, 975 Main St\, Danville\, VA\, 24541\, United States
ORGANIZER;CN="Danville Museum of Fine Arts & History":MAILTO:info@danvillemuseum.org
END:VEVENT
BEGIN:VEVENT
DTSTART;TZID=UTC:20300419T100000
DTEND;TZID=UTC:20300419T160000
DTSTAMP:20260423T130628
CREATED:20260216T005332Z
LAST-MODIFIED:20260421T215616Z
UID:10000687-1902823200-1902844800@danvillemuseum.org
SUMMARY:Museum Open
DESCRIPTION:Museum Open to the Public \n10:00 a.m. – 4 p.m.
URL:https://danvillemuseum.org/event/5575/2030-04-19/
LOCATION:Danville Museum of Fine Arts & History\, 975 Main St\, Danville\, VA\, 24541\, United States
ORGANIZER;CN="Danville Museum of Fine Arts & History":MAILTO:info@danvillemuseum.org
END:VEVENT
BEGIN:VEVENT
DTSTART;TZID=UTC:20300420T100000
DTEND;TZID=UTC:20300420T160000
DTSTAMP:20260423T130628
CREATED:20260216T005332Z
LAST-MODIFIED:20260421T215616Z
UID:10000688-1902909600-1902931200@danvillemuseum.org
SUMMARY:Museum Open
DESCRIPTION:Museum Open to the Public \n10:00 a.m. – 4 p.m.
URL:https://danvillemuseum.org/event/5575/2030-04-20/
LOCATION:Danville Museum of Fine Arts & History\, 975 Main St\, Danville\, VA\, 24541\, United States
ORGANIZER;CN="Danville Museum of Fine Arts & History":MAILTO:info@danvillemuseum.org
END:VEVENT
BEGIN:VEVENT
DTSTART;TZID=UTC:20300421T120000
DTEND;TZID=UTC:20300421T160000
DTSTAMP:20260423T130628
CREATED:20260216T005517Z
LAST-MODIFIED:20260216T005517Z
UID:10001035-1903003200-1903017600@danvillemuseum.org
SUMMARY:Museum Open
DESCRIPTION:Museum Open to the Public \nnoon- 4 p.m.
URL:https://danvillemuseum.org/event/museum-open/2030-04-21/
LOCATION:Danville Museum of Fine Arts & History\, 975 Main St\, Danville\, VA\, 24541\, United States
ORGANIZER;CN="Danville Museum of Fine Arts & History":MAILTO:info@danvillemuseum.org
END:VEVENT
BEGIN:VEVENT
DTSTART;TZID=UTC:20300425T100000
DTEND;TZID=UTC:20300425T160000
DTSTAMP:20260423T130628
CREATED:20260216T005332Z
LAST-MODIFIED:20260421T215616Z
UID:10000689-1903341600-1903363200@danvillemuseum.org
SUMMARY:Museum Open
DESCRIPTION:Museum Open to the Public \n10:00 a.m. – 4 p.m.
URL:https://danvillemuseum.org/event/5575/2030-04-25/
LOCATION:Danville Museum of Fine Arts & History\, 975 Main St\, Danville\, VA\, 24541\, United States
ORGANIZER;CN="Danville Museum of Fine Arts & History":MAILTO:info@danvillemuseum.org
END:VEVENT
BEGIN:VEVENT
DTSTART;TZID=UTC:20300426T100000
DTEND;TZID=UTC:20300426T160000
DTSTAMP:20260423T130628
CREATED:20260216T005332Z
LAST-MODIFIED:20260421T215616Z
UID:10000690-1903428000-1903449600@danvillemuseum.org
SUMMARY:Museum Open
DESCRIPTION:Museum Open to the Public \n10:00 a.m. – 4 p.m.
URL:https://danvillemuseum.org/event/5575/2030-04-26/
LOCATION:Danville Museum of Fine Arts & History\, 975 Main St\, Danville\, VA\, 24541\, United States
ORGANIZER;CN="Danville Museum of Fine Arts & History":MAILTO:info@danvillemuseum.org
END:VEVENT
BEGIN:VEVENT
DTSTART;TZID=UTC:20300427T100000
DTEND;TZID=UTC:20300427T160000
DTSTAMP:20260423T130628
CREATED:20260216T005332Z
LAST-MODIFIED:20260421T215616Z
UID:10000691-1903514400-1903536000@danvillemuseum.org
SUMMARY:Museum Open
DESCRIPTION:Museum Open to the Public \n10:00 a.m. – 4 p.m.
URL:https://danvillemuseum.org/event/5575/2030-04-27/
LOCATION:Danville Museum of Fine Arts & History\, 975 Main St\, Danville\, VA\, 24541\, United States
ORGANIZER;CN="Danville Museum of Fine Arts & History":MAILTO:info@danvillemuseum.org
END:VEVENT
BEGIN:VEVENT
DTSTART;TZID=UTC:20300428T120000
DTEND;TZID=UTC:20300428T160000
DTSTAMP:20260423T130628
CREATED:20260216T005517Z
LAST-MODIFIED:20260216T005517Z
UID:10001036-1903608000-1903622400@danvillemuseum.org
SUMMARY:Museum Open
DESCRIPTION:Museum Open to the Public \nnoon- 4 p.m.
URL:https://danvillemuseum.org/event/museum-open/2030-04-28/
LOCATION:Danville Museum of Fine Arts & History\, 975 Main St\, Danville\, VA\, 24541\, United States
ORGANIZER;CN="Danville Museum of Fine Arts & History":MAILTO:info@danvillemuseum.org
END:VEVENT
BEGIN:VEVENT
DTSTART;TZID=UTC:20300502T100000
DTEND;TZID=UTC:20300502T160000
DTSTAMP:20260423T130628
CREATED:20260216T005332Z
LAST-MODIFIED:20260421T215616Z
UID:10000692-1903946400-1903968000@danvillemuseum.org
SUMMARY:Museum Open
DESCRIPTION:Museum Open to the Public \n10:00 a.m. – 4 p.m.
URL:https://danvillemuseum.org/event/5575/2030-05-02/
LOCATION:Danville Museum of Fine Arts & History\, 975 Main St\, Danville\, VA\, 24541\, United States
ORGANIZER;CN="Danville Museum of Fine Arts & History":MAILTO:info@danvillemuseum.org
END:VEVENT
BEGIN:VEVENT
DTSTART;TZID=UTC:20300503T100000
DTEND;TZID=UTC:20300503T160000
DTSTAMP:20260423T130628
CREATED:20260216T005332Z
LAST-MODIFIED:20260421T215616Z
UID:10000693-1904032800-1904054400@danvillemuseum.org
SUMMARY:Museum Open
DESCRIPTION:Museum Open to the Public \n10:00 a.m. – 4 p.m.
URL:https://danvillemuseum.org/event/5575/2030-05-03/
LOCATION:Danville Museum of Fine Arts & History\, 975 Main St\, Danville\, VA\, 24541\, United States
ORGANIZER;CN="Danville Museum of Fine Arts & History":MAILTO:info@danvillemuseum.org
END:VEVENT
BEGIN:VEVENT
DTSTART;TZID=UTC:20300504T100000
DTEND;TZID=UTC:20300504T160000
DTSTAMP:20260423T130628
CREATED:20260216T005332Z
LAST-MODIFIED:20260421T215616Z
UID:10000694-1904119200-1904140800@danvillemuseum.org
SUMMARY:Museum Open
DESCRIPTION:Museum Open to the Public \n10:00 a.m. – 4 p.m.
URL:https://danvillemuseum.org/event/5575/2030-05-04/
LOCATION:Danville Museum of Fine Arts & History\, 975 Main St\, Danville\, VA\, 24541\, United States
ORGANIZER;CN="Danville Museum of Fine Arts & History":MAILTO:info@danvillemuseum.org
END:VEVENT
BEGIN:VEVENT
DTSTART;TZID=UTC:20300505T120000
DTEND;TZID=UTC:20300505T160000
DTSTAMP:20260423T130628
CREATED:20260216T005517Z
LAST-MODIFIED:20260216T005517Z
UID:10001037-1904212800-1904227200@danvillemuseum.org
SUMMARY:Museum Open
DESCRIPTION:Museum Open to the Public \nnoon- 4 p.m.
URL:https://danvillemuseum.org/event/museum-open/2030-05-05/
LOCATION:Danville Museum of Fine Arts & History\, 975 Main St\, Danville\, VA\, 24541\, United States
ORGANIZER;CN="Danville Museum of Fine Arts & History":MAILTO:info@danvillemuseum.org
END:VEVENT
BEGIN:VEVENT
DTSTART;TZID=UTC:20300509T100000
DTEND;TZID=UTC:20300509T160000
DTSTAMP:20260423T130628
CREATED:20260216T005332Z
LAST-MODIFIED:20260421T215616Z
UID:10000695-1904551200-1904572800@danvillemuseum.org
SUMMARY:Museum Open
DESCRIPTION:Museum Open to the Public \n10:00 a.m. – 4 p.m.
URL:https://danvillemuseum.org/event/5575/2030-05-09/
LOCATION:Danville Museum of Fine Arts & History\, 975 Main St\, Danville\, VA\, 24541\, United States
ORGANIZER;CN="Danville Museum of Fine Arts & History":MAILTO:info@danvillemuseum.org
END:VEVENT
BEGIN:VEVENT
DTSTART;TZID=UTC:20300510T100000
DTEND;TZID=UTC:20300510T160000
DTSTAMP:20260423T130628
CREATED:20260216T005332Z
LAST-MODIFIED:20260421T215616Z
UID:10000696-1904637600-1904659200@danvillemuseum.org
SUMMARY:Museum Open
DESCRIPTION:Museum Open to the Public \n10:00 a.m. – 4 p.m.
URL:https://danvillemuseum.org/event/5575/2030-05-10/
LOCATION:Danville Museum of Fine Arts & History\, 975 Main St\, Danville\, VA\, 24541\, United States
ORGANIZER;CN="Danville Museum of Fine Arts & History":MAILTO:info@danvillemuseum.org
END:VEVENT
BEGIN:VEVENT
DTSTART;TZID=UTC:20300511T100000
DTEND;TZID=UTC:20300511T160000
DTSTAMP:20260423T130628
CREATED:20260216T005332Z
LAST-MODIFIED:20260421T215616Z
UID:10000697-1904724000-1904745600@danvillemuseum.org
SUMMARY:Museum Open
DESCRIPTION:Museum Open to the Public \n10:00 a.m. – 4 p.m.
URL:https://danvillemuseum.org/event/5575/2030-05-11/
LOCATION:Danville Museum of Fine Arts & History\, 975 Main St\, Danville\, VA\, 24541\, United States
ORGANIZER;CN="Danville Museum of Fine Arts & History":MAILTO:info@danvillemuseum.org
END:VEVENT
BEGIN:VEVENT
DTSTART;TZID=UTC:20300512T120000
DTEND;TZID=UTC:20300512T160000
DTSTAMP:20260423T130628
CREATED:20260216T005517Z
LAST-MODIFIED:20260216T005517Z
UID:10001038-1904817600-1904832000@danvillemuseum.org
SUMMARY:Museum Open
DESCRIPTION:Museum Open to the Public \nnoon- 4 p.m.
URL:https://danvillemuseum.org/event/museum-open/2030-05-12/
LOCATION:Danville Museum of Fine Arts & History\, 975 Main St\, Danville\, VA\, 24541\, United States
ORGANIZER;CN="Danville Museum of Fine Arts & History":MAILTO:info@danvillemuseum.org
END:VEVENT
BEGIN:VEVENT
DTSTART;TZID=UTC:20300516T100000
DTEND;TZID=UTC:20300516T160000
DTSTAMP:20260423T130628
CREATED:20260216T005332Z
LAST-MODIFIED:20260421T215616Z
UID:10000698-1905156000-1905177600@danvillemuseum.org
SUMMARY:Museum Open
DESCRIPTION:Museum Open to the Public \n10:00 a.m. – 4 p.m.
URL:https://danvillemuseum.org/event/5575/2030-05-16/
LOCATION:Danville Museum of Fine Arts & History\, 975 Main St\, Danville\, VA\, 24541\, United States
ORGANIZER;CN="Danville Museum of Fine Arts & History":MAILTO:info@danvillemuseum.org
END:VEVENT
BEGIN:VEVENT
DTSTART;TZID=UTC:20300517T100000
DTEND;TZID=UTC:20300517T160000
DTSTAMP:20260423T130628
CREATED:20260216T005332Z
LAST-MODIFIED:20260421T215616Z
UID:10000699-1905242400-1905264000@danvillemuseum.org
SUMMARY:Museum Open
DESCRIPTION:Museum Open to the Public \n10:00 a.m. – 4 p.m.
URL:https://danvillemuseum.org/event/5575/2030-05-17/
LOCATION:Danville Museum of Fine Arts & History\, 975 Main St\, Danville\, VA\, 24541\, United States
ORGANIZER;CN="Danville Museum of Fine Arts & History":MAILTO:info@danvillemuseum.org
END:VEVENT
BEGIN:VEVENT
DTSTART;TZID=UTC:20300518T100000
DTEND;TZID=UTC:20300518T160000
DTSTAMP:20260423T130628
CREATED:20260216T005332Z
LAST-MODIFIED:20260421T215616Z
UID:10000700-1905328800-1905350400@danvillemuseum.org
SUMMARY:Museum Open
DESCRIPTION:Museum Open to the Public \n10:00 a.m. – 4 p.m.
URL:https://danvillemuseum.org/event/5575/2030-05-18/
LOCATION:Danville Museum of Fine Arts & History\, 975 Main St\, Danville\, VA\, 24541\, United States
ORGANIZER;CN="Danville Museum of Fine Arts & History":MAILTO:info@danvillemuseum.org
END:VEVENT
BEGIN:VEVENT
DTSTART;TZID=UTC:20300519T120000
DTEND;TZID=UTC:20300519T160000
DTSTAMP:20260423T130628
CREATED:20260216T005517Z
LAST-MODIFIED:20260216T005517Z
UID:10001039-1905422400-1905436800@danvillemuseum.org
SUMMARY:Museum Open
DESCRIPTION:Museum Open to the Public \nnoon- 4 p.m.
URL:https://danvillemuseum.org/event/museum-open/2030-05-19/
LOCATION:Danville Museum of Fine Arts & History\, 975 Main St\, Danville\, VA\, 24541\, United States
ORGANIZER;CN="Danville Museum of Fine Arts & History":MAILTO:info@danvillemuseum.org
END:VEVENT
BEGIN:VEVENT
DTSTART;TZID=UTC:20300523T100000
DTEND;TZID=UTC:20300523T160000
DTSTAMP:20260423T130628
CREATED:20260216T005332Z
LAST-MODIFIED:20260421T215616Z
UID:10000701-1905760800-1905782400@danvillemuseum.org
SUMMARY:Museum Open
DESCRIPTION:Museum Open to the Public \n10:00 a.m. – 4 p.m.
URL:https://danvillemuseum.org/event/5575/2030-05-23/
LOCATION:Danville Museum of Fine Arts & History\, 975 Main St\, Danville\, VA\, 24541\, United States
ORGANIZER;CN="Danville Museum of Fine Arts & History":MAILTO:info@danvillemuseum.org
END:VEVENT
BEGIN:VEVENT
DTSTART;TZID=UTC:20300524T100000
DTEND;TZID=UTC:20300524T160000
DTSTAMP:20260423T130628
CREATED:20260216T005332Z
LAST-MODIFIED:20260421T215616Z
UID:10000702-1905847200-1905868800@danvillemuseum.org
SUMMARY:Museum Open
DESCRIPTION:Museum Open to the Public \n10:00 a.m. – 4 p.m.
URL:https://danvillemuseum.org/event/5575/2030-05-24/
LOCATION:Danville Museum of Fine Arts & History\, 975 Main St\, Danville\, VA\, 24541\, United States
ORGANIZER;CN="Danville Museum of Fine Arts & History":MAILTO:info@danvillemuseum.org
END:VEVENT
BEGIN:VEVENT
DTSTART;TZID=UTC:20300525T100000
DTEND;TZID=UTC:20300525T160000
DTSTAMP:20260423T130628
CREATED:20260216T005332Z
LAST-MODIFIED:20260421T215616Z
UID:10000703-1905933600-1905955200@danvillemuseum.org
SUMMARY:Museum Open
DESCRIPTION:Museum Open to the Public \n10:00 a.m. – 4 p.m.
URL:https://danvillemuseum.org/event/5575/2030-05-25/
LOCATION:Danville Museum of Fine Arts & History\, 975 Main St\, Danville\, VA\, 24541\, United States
ORGANIZER;CN="Danville Museum of Fine Arts & History":MAILTO:info@danvillemuseum.org
END:VEVENT
BEGIN:VEVENT
DTSTART;TZID=UTC:20300526T120000
DTEND;TZID=UTC:20300526T160000
DTSTAMP:20260423T130628
CREATED:20260216T005517Z
LAST-MODIFIED:20260216T005517Z
UID:10001040-1906027200-1906041600@danvillemuseum.org
SUMMARY:Museum Open
DESCRIPTION:Museum Open to the Public \nnoon- 4 p.m.
URL:https://danvillemuseum.org/event/museum-open/2030-05-26/
LOCATION:Danville Museum of Fine Arts & History\, 975 Main St\, Danville\, VA\, 24541\, United States
ORGANIZER;CN="Danville Museum of Fine Arts & History":MAILTO:info@danvillemuseum.org
END:VEVENT
BEGIN:VEVENT
DTSTART;TZID=UTC:20300530T100000
DTEND;TZID=UTC:20300530T160000
DTSTAMP:20260423T130628
CREATED:20260216T005332Z
LAST-MODIFIED:20260421T215616Z
UID:10000704-1906365600-1906387200@danvillemuseum.org
SUMMARY:Museum Open
DESCRIPTION:Museum Open to the Public \n10:00 a.m. – 4 p.m.
URL:https://danvillemuseum.org/event/5575/2030-05-30/
LOCATION:Danville Museum of Fine Arts & History\, 975 Main St\, Danville\, VA\, 24541\, United States
ORGANIZER;CN="Danville Museum of Fine Arts & History":MAILTO:info@danvillemuseum.org
END:VEVENT
BEGIN:VEVENT
DTSTART;TZID=UTC:20300531T100000
DTEND;TZID=UTC:20300531T160000
DTSTAMP:20260423T130628
CREATED:20260216T005332Z
LAST-MODIFIED:20260421T215616Z
UID:10000705-1906452000-1906473600@danvillemuseum.org
SUMMARY:Museum Open
DESCRIPTION:Museum Open to the Public \n10:00 a.m. – 4 p.m.
URL:https://danvillemuseum.org/event/5575/2030-05-31/
LOCATION:Danville Museum of Fine Arts & History\, 975 Main St\, Danville\, VA\, 24541\, United States
ORGANIZER;CN="Danville Museum of Fine Arts & History":MAILTO:info@danvillemuseum.org
END:VEVENT
BEGIN:VEVENT
DTSTART;TZID=UTC:20300601T100000
DTEND;TZID=UTC:20300601T160000
DTSTAMP:20260423T130628
CREATED:20260216T005332Z
LAST-MODIFIED:20260421T215616Z
UID:10000706-1906538400-1906560000@danvillemuseum.org
SUMMARY:Museum Open
DESCRIPTION:Museum Open to the Public \n10:00 a.m. – 4 p.m.
URL:https://danvillemuseum.org/event/5575/2030-06-01/
LOCATION:Danville Museum of Fine Arts & History\, 975 Main St\, Danville\, VA\, 24541\, United States
ORGANIZER;CN="Danville Museum of Fine Arts & History":MAILTO:info@danvillemuseum.org
END:VEVENT
END:VCALENDAR