BEGIN:VCALENDAR
VERSION:2.0
PRODID:-//Danville Museum of Fine Arts &amp; History - ECPv6.15.18//NONSGML v1.0//EN
CALSCALE:GREGORIAN
METHOD:PUBLISH
X-WR-CALNAME:Danville Museum of Fine Arts &amp; History
X-ORIGINAL-URL:https://danvillemuseum.org
X-WR-CALDESC:Events for Danville Museum of Fine Arts &amp; History
REFRESH-INTERVAL;VALUE=DURATION:PT1H
X-Robots-Tag:noindex
X-PUBLISHED-TTL:PT1H
BEGIN:VTIMEZONE
TZID:UTC
BEGIN:STANDARD
TZOFFSETFROM:+0000
TZOFFSETTO:+0000
TZNAME:UTC
DTSTART:20280101T000000
END:STANDARD
END:VTIMEZONE
BEGIN:VEVENT
DTSTART;TZID=UTC:20290719T100000
DTEND;TZID=UTC:20290719T160000
DTSTAMP:20260422T224317
CREATED:20260216T005332Z
LAST-MODIFIED:20260421T215616Z
UID:10000569-1879149600-1879171200@danvillemuseum.org
SUMMARY:Museum Open
DESCRIPTION:Museum Open to the Public \n10:00 a.m. – 4 p.m.
URL:https://danvillemuseum.org/event/5575/2029-07-19/
LOCATION:Danville Museum of Fine Arts & History\, 975 Main St\, Danville\, VA\, 24541\, United States
ORGANIZER;CN="Danville Museum of Fine Arts & History":MAILTO:info@danvillemuseum.org
END:VEVENT
BEGIN:VEVENT
DTSTART;TZID=UTC:20290720T100000
DTEND;TZID=UTC:20290720T160000
DTSTAMP:20260422T224317
CREATED:20260216T005332Z
LAST-MODIFIED:20260421T215616Z
UID:10000570-1879236000-1879257600@danvillemuseum.org
SUMMARY:Museum Open
DESCRIPTION:Museum Open to the Public \n10:00 a.m. – 4 p.m.
URL:https://danvillemuseum.org/event/5575/2029-07-20/
LOCATION:Danville Museum of Fine Arts & History\, 975 Main St\, Danville\, VA\, 24541\, United States
ORGANIZER;CN="Danville Museum of Fine Arts & History":MAILTO:info@danvillemuseum.org
END:VEVENT
BEGIN:VEVENT
DTSTART;TZID=UTC:20290721T100000
DTEND;TZID=UTC:20290721T160000
DTSTAMP:20260422T224317
CREATED:20260216T005332Z
LAST-MODIFIED:20260421T215616Z
UID:10000571-1879322400-1879344000@danvillemuseum.org
SUMMARY:Museum Open
DESCRIPTION:Museum Open to the Public \n10:00 a.m. – 4 p.m.
URL:https://danvillemuseum.org/event/5575/2029-07-21/
LOCATION:Danville Museum of Fine Arts & History\, 975 Main St\, Danville\, VA\, 24541\, United States
ORGANIZER;CN="Danville Museum of Fine Arts & History":MAILTO:info@danvillemuseum.org
END:VEVENT
BEGIN:VEVENT
DTSTART;TZID=UTC:20290722T120000
DTEND;TZID=UTC:20290722T160000
DTSTAMP:20260422T224317
CREATED:20260216T005517Z
LAST-MODIFIED:20260216T005517Z
UID:10000996-1879416000-1879430400@danvillemuseum.org
SUMMARY:Museum Open
DESCRIPTION:Museum Open to the Public \nnoon- 4 p.m.
URL:https://danvillemuseum.org/event/museum-open/2029-07-22/
LOCATION:Danville Museum of Fine Arts & History\, 975 Main St\, Danville\, VA\, 24541\, United States
ORGANIZER;CN="Danville Museum of Fine Arts & History":MAILTO:info@danvillemuseum.org
END:VEVENT
BEGIN:VEVENT
DTSTART;TZID=UTC:20290726T100000
DTEND;TZID=UTC:20290726T160000
DTSTAMP:20260422T224317
CREATED:20260216T005332Z
LAST-MODIFIED:20260421T215616Z
UID:10000572-1879754400-1879776000@danvillemuseum.org
SUMMARY:Museum Open
DESCRIPTION:Museum Open to the Public \n10:00 a.m. – 4 p.m.
URL:https://danvillemuseum.org/event/5575/2029-07-26/
LOCATION:Danville Museum of Fine Arts & History\, 975 Main St\, Danville\, VA\, 24541\, United States
ORGANIZER;CN="Danville Museum of Fine Arts & History":MAILTO:info@danvillemuseum.org
END:VEVENT
BEGIN:VEVENT
DTSTART;TZID=UTC:20290727T100000
DTEND;TZID=UTC:20290727T160000
DTSTAMP:20260422T224317
CREATED:20260216T005332Z
LAST-MODIFIED:20260421T215616Z
UID:10000573-1879840800-1879862400@danvillemuseum.org
SUMMARY:Museum Open
DESCRIPTION:Museum Open to the Public \n10:00 a.m. – 4 p.m.
URL:https://danvillemuseum.org/event/5575/2029-07-27/
LOCATION:Danville Museum of Fine Arts & History\, 975 Main St\, Danville\, VA\, 24541\, United States
ORGANIZER;CN="Danville Museum of Fine Arts & History":MAILTO:info@danvillemuseum.org
END:VEVENT
BEGIN:VEVENT
DTSTART;TZID=UTC:20290728T100000
DTEND;TZID=UTC:20290728T160000
DTSTAMP:20260422T224317
CREATED:20260216T005332Z
LAST-MODIFIED:20260421T215616Z
UID:10000574-1879927200-1879948800@danvillemuseum.org
SUMMARY:Museum Open
DESCRIPTION:Museum Open to the Public \n10:00 a.m. – 4 p.m.
URL:https://danvillemuseum.org/event/5575/2029-07-28/
LOCATION:Danville Museum of Fine Arts & History\, 975 Main St\, Danville\, VA\, 24541\, United States
ORGANIZER;CN="Danville Museum of Fine Arts & History":MAILTO:info@danvillemuseum.org
END:VEVENT
BEGIN:VEVENT
DTSTART;TZID=UTC:20290729T120000
DTEND;TZID=UTC:20290729T160000
DTSTAMP:20260422T224317
CREATED:20260216T005517Z
LAST-MODIFIED:20260216T005517Z
UID:10000997-1880020800-1880035200@danvillemuseum.org
SUMMARY:Museum Open
DESCRIPTION:Museum Open to the Public \nnoon- 4 p.m.
URL:https://danvillemuseum.org/event/museum-open/2029-07-29/
LOCATION:Danville Museum of Fine Arts & History\, 975 Main St\, Danville\, VA\, 24541\, United States
ORGANIZER;CN="Danville Museum of Fine Arts & History":MAILTO:info@danvillemuseum.org
END:VEVENT
BEGIN:VEVENT
DTSTART;TZID=UTC:20290802T100000
DTEND;TZID=UTC:20290802T160000
DTSTAMP:20260422T224317
CREATED:20260216T005332Z
LAST-MODIFIED:20260421T215616Z
UID:10000575-1880359200-1880380800@danvillemuseum.org
SUMMARY:Museum Open
DESCRIPTION:Museum Open to the Public \n10:00 a.m. – 4 p.m.
URL:https://danvillemuseum.org/event/5575/2029-08-02/
LOCATION:Danville Museum of Fine Arts & History\, 975 Main St\, Danville\, VA\, 24541\, United States
ORGANIZER;CN="Danville Museum of Fine Arts & History":MAILTO:info@danvillemuseum.org
END:VEVENT
BEGIN:VEVENT
DTSTART;TZID=UTC:20290803T100000
DTEND;TZID=UTC:20290803T160000
DTSTAMP:20260422T224317
CREATED:20260216T005332Z
LAST-MODIFIED:20260421T215616Z
UID:10000576-1880445600-1880467200@danvillemuseum.org
SUMMARY:Museum Open
DESCRIPTION:Museum Open to the Public \n10:00 a.m. – 4 p.m.
URL:https://danvillemuseum.org/event/5575/2029-08-03/
LOCATION:Danville Museum of Fine Arts & History\, 975 Main St\, Danville\, VA\, 24541\, United States
ORGANIZER;CN="Danville Museum of Fine Arts & History":MAILTO:info@danvillemuseum.org
END:VEVENT
BEGIN:VEVENT
DTSTART;TZID=UTC:20290804T100000
DTEND;TZID=UTC:20290804T160000
DTSTAMP:20260422T224317
CREATED:20260216T005332Z
LAST-MODIFIED:20260421T215616Z
UID:10000577-1880532000-1880553600@danvillemuseum.org
SUMMARY:Museum Open
DESCRIPTION:Museum Open to the Public \n10:00 a.m. – 4 p.m.
URL:https://danvillemuseum.org/event/5575/2029-08-04/
LOCATION:Danville Museum of Fine Arts & History\, 975 Main St\, Danville\, VA\, 24541\, United States
ORGANIZER;CN="Danville Museum of Fine Arts & History":MAILTO:info@danvillemuseum.org
END:VEVENT
BEGIN:VEVENT
DTSTART;TZID=UTC:20290805T120000
DTEND;TZID=UTC:20290805T160000
DTSTAMP:20260422T224317
CREATED:20260216T005517Z
LAST-MODIFIED:20260216T005517Z
UID:10000998-1880625600-1880640000@danvillemuseum.org
SUMMARY:Museum Open
DESCRIPTION:Museum Open to the Public \nnoon- 4 p.m.
URL:https://danvillemuseum.org/event/museum-open/2029-08-05/
LOCATION:Danville Museum of Fine Arts & History\, 975 Main St\, Danville\, VA\, 24541\, United States
ORGANIZER;CN="Danville Museum of Fine Arts & History":MAILTO:info@danvillemuseum.org
END:VEVENT
BEGIN:VEVENT
DTSTART;TZID=UTC:20290809T100000
DTEND;TZID=UTC:20290809T160000
DTSTAMP:20260422T224317
CREATED:20260216T005332Z
LAST-MODIFIED:20260421T215616Z
UID:10000578-1880964000-1880985600@danvillemuseum.org
SUMMARY:Museum Open
DESCRIPTION:Museum Open to the Public \n10:00 a.m. – 4 p.m.
URL:https://danvillemuseum.org/event/5575/2029-08-09/
LOCATION:Danville Museum of Fine Arts & History\, 975 Main St\, Danville\, VA\, 24541\, United States
ORGANIZER;CN="Danville Museum of Fine Arts & History":MAILTO:info@danvillemuseum.org
END:VEVENT
BEGIN:VEVENT
DTSTART;TZID=UTC:20290810T100000
DTEND;TZID=UTC:20290810T160000
DTSTAMP:20260422T224317
CREATED:20260216T005332Z
LAST-MODIFIED:20260421T215616Z
UID:10000579-1881050400-1881072000@danvillemuseum.org
SUMMARY:Museum Open
DESCRIPTION:Museum Open to the Public \n10:00 a.m. – 4 p.m.
URL:https://danvillemuseum.org/event/5575/2029-08-10/
LOCATION:Danville Museum of Fine Arts & History\, 975 Main St\, Danville\, VA\, 24541\, United States
ORGANIZER;CN="Danville Museum of Fine Arts & History":MAILTO:info@danvillemuseum.org
END:VEVENT
BEGIN:VEVENT
DTSTART;TZID=UTC:20290811T100000
DTEND;TZID=UTC:20290811T160000
DTSTAMP:20260422T224317
CREATED:20260216T005332Z
LAST-MODIFIED:20260421T215616Z
UID:10000580-1881136800-1881158400@danvillemuseum.org
SUMMARY:Museum Open
DESCRIPTION:Museum Open to the Public \n10:00 a.m. – 4 p.m.
URL:https://danvillemuseum.org/event/5575/2029-08-11/
LOCATION:Danville Museum of Fine Arts & History\, 975 Main St\, Danville\, VA\, 24541\, United States
ORGANIZER;CN="Danville Museum of Fine Arts & History":MAILTO:info@danvillemuseum.org
END:VEVENT
BEGIN:VEVENT
DTSTART;TZID=UTC:20290812T120000
DTEND;TZID=UTC:20290812T160000
DTSTAMP:20260422T224317
CREATED:20260216T005517Z
LAST-MODIFIED:20260216T005517Z
UID:10000999-1881230400-1881244800@danvillemuseum.org
SUMMARY:Museum Open
DESCRIPTION:Museum Open to the Public \nnoon- 4 p.m.
URL:https://danvillemuseum.org/event/museum-open/2029-08-12/
LOCATION:Danville Museum of Fine Arts & History\, 975 Main St\, Danville\, VA\, 24541\, United States
ORGANIZER;CN="Danville Museum of Fine Arts & History":MAILTO:info@danvillemuseum.org
END:VEVENT
BEGIN:VEVENT
DTSTART;TZID=UTC:20290816T100000
DTEND;TZID=UTC:20290816T160000
DTSTAMP:20260422T224317
CREATED:20260216T005332Z
LAST-MODIFIED:20260421T215616Z
UID:10000581-1881568800-1881590400@danvillemuseum.org
SUMMARY:Museum Open
DESCRIPTION:Museum Open to the Public \n10:00 a.m. – 4 p.m.
URL:https://danvillemuseum.org/event/5575/2029-08-16/
LOCATION:Danville Museum of Fine Arts & History\, 975 Main St\, Danville\, VA\, 24541\, United States
ORGANIZER;CN="Danville Museum of Fine Arts & History":MAILTO:info@danvillemuseum.org
END:VEVENT
BEGIN:VEVENT
DTSTART;TZID=UTC:20290817T100000
DTEND;TZID=UTC:20290817T160000
DTSTAMP:20260422T224317
CREATED:20260216T005332Z
LAST-MODIFIED:20260421T215616Z
UID:10000582-1881655200-1881676800@danvillemuseum.org
SUMMARY:Museum Open
DESCRIPTION:Museum Open to the Public \n10:00 a.m. – 4 p.m.
URL:https://danvillemuseum.org/event/5575/2029-08-17/
LOCATION:Danville Museum of Fine Arts & History\, 975 Main St\, Danville\, VA\, 24541\, United States
ORGANIZER;CN="Danville Museum of Fine Arts & History":MAILTO:info@danvillemuseum.org
END:VEVENT
BEGIN:VEVENT
DTSTART;TZID=UTC:20290818T100000
DTEND;TZID=UTC:20290818T160000
DTSTAMP:20260422T224317
CREATED:20260216T005332Z
LAST-MODIFIED:20260421T215616Z
UID:10000583-1881741600-1881763200@danvillemuseum.org
SUMMARY:Museum Open
DESCRIPTION:Museum Open to the Public \n10:00 a.m. – 4 p.m.
URL:https://danvillemuseum.org/event/5575/2029-08-18/
LOCATION:Danville Museum of Fine Arts & History\, 975 Main St\, Danville\, VA\, 24541\, United States
ORGANIZER;CN="Danville Museum of Fine Arts & History":MAILTO:info@danvillemuseum.org
END:VEVENT
BEGIN:VEVENT
DTSTART;TZID=UTC:20290819T120000
DTEND;TZID=UTC:20290819T160000
DTSTAMP:20260422T224317
CREATED:20260216T005517Z
LAST-MODIFIED:20260216T005517Z
UID:10001000-1881835200-1881849600@danvillemuseum.org
SUMMARY:Museum Open
DESCRIPTION:Museum Open to the Public \nnoon- 4 p.m.
URL:https://danvillemuseum.org/event/museum-open/2029-08-19/
LOCATION:Danville Museum of Fine Arts & History\, 975 Main St\, Danville\, VA\, 24541\, United States
ORGANIZER;CN="Danville Museum of Fine Arts & History":MAILTO:info@danvillemuseum.org
END:VEVENT
BEGIN:VEVENT
DTSTART;TZID=UTC:20290823T100000
DTEND;TZID=UTC:20290823T160000
DTSTAMP:20260422T224317
CREATED:20260216T005332Z
LAST-MODIFIED:20260421T215616Z
UID:10000584-1882173600-1882195200@danvillemuseum.org
SUMMARY:Museum Open
DESCRIPTION:Museum Open to the Public \n10:00 a.m. – 4 p.m.
URL:https://danvillemuseum.org/event/5575/2029-08-23/
LOCATION:Danville Museum of Fine Arts & History\, 975 Main St\, Danville\, VA\, 24541\, United States
ORGANIZER;CN="Danville Museum of Fine Arts & History":MAILTO:info@danvillemuseum.org
END:VEVENT
BEGIN:VEVENT
DTSTART;TZID=UTC:20290824T100000
DTEND;TZID=UTC:20290824T160000
DTSTAMP:20260422T224317
CREATED:20260216T005332Z
LAST-MODIFIED:20260421T215616Z
UID:10000585-1882260000-1882281600@danvillemuseum.org
SUMMARY:Museum Open
DESCRIPTION:Museum Open to the Public \n10:00 a.m. – 4 p.m.
URL:https://danvillemuseum.org/event/5575/2029-08-24/
LOCATION:Danville Museum of Fine Arts & History\, 975 Main St\, Danville\, VA\, 24541\, United States
ORGANIZER;CN="Danville Museum of Fine Arts & History":MAILTO:info@danvillemuseum.org
END:VEVENT
BEGIN:VEVENT
DTSTART;TZID=UTC:20290825T100000
DTEND;TZID=UTC:20290825T160000
DTSTAMP:20260422T224317
CREATED:20260216T005332Z
LAST-MODIFIED:20260421T215616Z
UID:10000586-1882346400-1882368000@danvillemuseum.org
SUMMARY:Museum Open
DESCRIPTION:Museum Open to the Public \n10:00 a.m. – 4 p.m.
URL:https://danvillemuseum.org/event/5575/2029-08-25/
LOCATION:Danville Museum of Fine Arts & History\, 975 Main St\, Danville\, VA\, 24541\, United States
ORGANIZER;CN="Danville Museum of Fine Arts & History":MAILTO:info@danvillemuseum.org
END:VEVENT
BEGIN:VEVENT
DTSTART;TZID=UTC:20290826T120000
DTEND;TZID=UTC:20290826T160000
DTSTAMP:20260422T224317
CREATED:20260216T005517Z
LAST-MODIFIED:20260216T005517Z
UID:10001001-1882440000-1882454400@danvillemuseum.org
SUMMARY:Museum Open
DESCRIPTION:Museum Open to the Public \nnoon- 4 p.m.
URL:https://danvillemuseum.org/event/museum-open/2029-08-26/
LOCATION:Danville Museum of Fine Arts & History\, 975 Main St\, Danville\, VA\, 24541\, United States
ORGANIZER;CN="Danville Museum of Fine Arts & History":MAILTO:info@danvillemuseum.org
END:VEVENT
BEGIN:VEVENT
DTSTART;TZID=UTC:20290830T100000
DTEND;TZID=UTC:20290830T160000
DTSTAMP:20260422T224317
CREATED:20260216T005332Z
LAST-MODIFIED:20260421T215616Z
UID:10000587-1882778400-1882800000@danvillemuseum.org
SUMMARY:Museum Open
DESCRIPTION:Museum Open to the Public \n10:00 a.m. – 4 p.m.
URL:https://danvillemuseum.org/event/5575/2029-08-30/
LOCATION:Danville Museum of Fine Arts & History\, 975 Main St\, Danville\, VA\, 24541\, United States
ORGANIZER;CN="Danville Museum of Fine Arts & History":MAILTO:info@danvillemuseum.org
END:VEVENT
BEGIN:VEVENT
DTSTART;TZID=UTC:20290831T100000
DTEND;TZID=UTC:20290831T160000
DTSTAMP:20260422T224317
CREATED:20260216T005332Z
LAST-MODIFIED:20260421T215616Z
UID:10000588-1882864800-1882886400@danvillemuseum.org
SUMMARY:Museum Open
DESCRIPTION:Museum Open to the Public \n10:00 a.m. – 4 p.m.
URL:https://danvillemuseum.org/event/5575/2029-08-31/
LOCATION:Danville Museum of Fine Arts & History\, 975 Main St\, Danville\, VA\, 24541\, United States
ORGANIZER;CN="Danville Museum of Fine Arts & History":MAILTO:info@danvillemuseum.org
END:VEVENT
BEGIN:VEVENT
DTSTART;TZID=UTC:20290901T100000
DTEND;TZID=UTC:20290901T160000
DTSTAMP:20260422T224317
CREATED:20260216T005332Z
LAST-MODIFIED:20260421T215616Z
UID:10000589-1882951200-1882972800@danvillemuseum.org
SUMMARY:Museum Open
DESCRIPTION:Museum Open to the Public \n10:00 a.m. – 4 p.m.
URL:https://danvillemuseum.org/event/5575/2029-09-01/
LOCATION:Danville Museum of Fine Arts & History\, 975 Main St\, Danville\, VA\, 24541\, United States
ORGANIZER;CN="Danville Museum of Fine Arts & History":MAILTO:info@danvillemuseum.org
END:VEVENT
BEGIN:VEVENT
DTSTART;TZID=UTC:20290902T120000
DTEND;TZID=UTC:20290902T160000
DTSTAMP:20260422T224317
CREATED:20260216T005517Z
LAST-MODIFIED:20260216T005517Z
UID:10001002-1883044800-1883059200@danvillemuseum.org
SUMMARY:Museum Open
DESCRIPTION:Museum Open to the Public \nnoon- 4 p.m.
URL:https://danvillemuseum.org/event/museum-open/2029-09-02/
LOCATION:Danville Museum of Fine Arts & History\, 975 Main St\, Danville\, VA\, 24541\, United States
ORGANIZER;CN="Danville Museum of Fine Arts & History":MAILTO:info@danvillemuseum.org
END:VEVENT
BEGIN:VEVENT
DTSTART;TZID=UTC:20290906T100000
DTEND;TZID=UTC:20290906T160000
DTSTAMP:20260422T224317
CREATED:20260216T005332Z
LAST-MODIFIED:20260421T215616Z
UID:10000590-1883383200-1883404800@danvillemuseum.org
SUMMARY:Museum Open
DESCRIPTION:Museum Open to the Public \n10:00 a.m. – 4 p.m.
URL:https://danvillemuseum.org/event/5575/2029-09-06/
LOCATION:Danville Museum of Fine Arts & History\, 975 Main St\, Danville\, VA\, 24541\, United States
ORGANIZER;CN="Danville Museum of Fine Arts & History":MAILTO:info@danvillemuseum.org
END:VEVENT
BEGIN:VEVENT
DTSTART;TZID=UTC:20290907T100000
DTEND;TZID=UTC:20290907T160000
DTSTAMP:20260422T224317
CREATED:20260216T005332Z
LAST-MODIFIED:20260421T215616Z
UID:10000591-1883469600-1883491200@danvillemuseum.org
SUMMARY:Museum Open
DESCRIPTION:Museum Open to the Public \n10:00 a.m. – 4 p.m.
URL:https://danvillemuseum.org/event/5575/2029-09-07/
LOCATION:Danville Museum of Fine Arts & History\, 975 Main St\, Danville\, VA\, 24541\, United States
ORGANIZER;CN="Danville Museum of Fine Arts & History":MAILTO:info@danvillemuseum.org
END:VEVENT
END:VCALENDAR