BEGIN:VCALENDAR
VERSION:2.0
PRODID:-//Danville Museum of Fine Arts &amp; History - ECPv6.15.18//NONSGML v1.0//EN
CALSCALE:GREGORIAN
METHOD:PUBLISH
X-WR-CALNAME:Danville Museum of Fine Arts &amp; History
X-ORIGINAL-URL:https://danvillemuseum.org
X-WR-CALDESC:Events for Danville Museum of Fine Arts &amp; History
REFRESH-INTERVAL;VALUE=DURATION:PT1H
X-Robots-Tag:noindex
X-PUBLISHED-TTL:PT1H
BEGIN:VTIMEZONE
TZID:UTC
BEGIN:STANDARD
TZOFFSETFROM:+0000
TZOFFSETTO:+0000
TZNAME:UTC
DTSTART:20270101T000000
END:STANDARD
END:VTIMEZONE
BEGIN:VEVENT
DTSTART;TZID=UTC:20280225T100000
DTEND;TZID=UTC:20280225T160000
DTSTAMP:20260421T054611
CREATED:20260216T005332Z
LAST-MODIFIED:20260402T001005Z
UID:10000351-1835085600-1835107200@danvillemuseum.org
SUMMARY:Museum Open
DESCRIPTION:Museum Open to the Public \n10:00 a.m. – 4 p.m.
URL:https://danvillemuseum.org/event/5575/2028-02-25/
LOCATION:Danville Museum of Fine Arts & History\, 975 Main St\, Danville\, VA\, 24541\, United States
ORGANIZER;CN="Danville Museum of Fine Arts & History":MAILTO:info@danvillemuseum.org
END:VEVENT
BEGIN:VEVENT
DTSTART;TZID=UTC:20280226T100000
DTEND;TZID=UTC:20280226T160000
DTSTAMP:20260421T054611
CREATED:20260216T005332Z
LAST-MODIFIED:20260402T001005Z
UID:10000352-1835172000-1835193600@danvillemuseum.org
SUMMARY:Museum Open
DESCRIPTION:Museum Open to the Public \n10:00 a.m. – 4 p.m.
URL:https://danvillemuseum.org/event/5575/2028-02-26/
LOCATION:Danville Museum of Fine Arts & History\, 975 Main St\, Danville\, VA\, 24541\, United States
ORGANIZER;CN="Danville Museum of Fine Arts & History":MAILTO:info@danvillemuseum.org
END:VEVENT
BEGIN:VEVENT
DTSTART;TZID=UTC:20280227T120000
DTEND;TZID=UTC:20280227T160000
DTSTAMP:20260421T054611
CREATED:20260216T005517Z
LAST-MODIFIED:20260216T005517Z
UID:10000923-1835265600-1835280000@danvillemuseum.org
SUMMARY:Museum Open
DESCRIPTION:Museum Open to the Public \nnoon- 4 p.m.
URL:https://danvillemuseum.org/event/museum-open/2028-02-27/
LOCATION:Danville Museum of Fine Arts & History\, 975 Main St\, Danville\, VA\, 24541\, United States
ORGANIZER;CN="Danville Museum of Fine Arts & History":MAILTO:info@danvillemuseum.org
END:VEVENT
BEGIN:VEVENT
DTSTART;TZID=UTC:20280302T100000
DTEND;TZID=UTC:20280302T160000
DTSTAMP:20260421T054611
CREATED:20260216T005332Z
LAST-MODIFIED:20260402T001005Z
UID:10000353-1835604000-1835625600@danvillemuseum.org
SUMMARY:Museum Open
DESCRIPTION:Museum Open to the Public \n10:00 a.m. – 4 p.m.
URL:https://danvillemuseum.org/event/5575/2028-03-02/
LOCATION:Danville Museum of Fine Arts & History\, 975 Main St\, Danville\, VA\, 24541\, United States
ORGANIZER;CN="Danville Museum of Fine Arts & History":MAILTO:info@danvillemuseum.org
END:VEVENT
BEGIN:VEVENT
DTSTART;TZID=UTC:20280303T100000
DTEND;TZID=UTC:20280303T160000
DTSTAMP:20260421T054611
CREATED:20260216T005332Z
LAST-MODIFIED:20260402T001005Z
UID:10000354-1835690400-1835712000@danvillemuseum.org
SUMMARY:Museum Open
DESCRIPTION:Museum Open to the Public \n10:00 a.m. – 4 p.m.
URL:https://danvillemuseum.org/event/5575/2028-03-03/
LOCATION:Danville Museum of Fine Arts & History\, 975 Main St\, Danville\, VA\, 24541\, United States
ORGANIZER;CN="Danville Museum of Fine Arts & History":MAILTO:info@danvillemuseum.org
END:VEVENT
BEGIN:VEVENT
DTSTART;TZID=UTC:20280304T100000
DTEND;TZID=UTC:20280304T160000
DTSTAMP:20260421T054611
CREATED:20260216T005332Z
LAST-MODIFIED:20260402T001005Z
UID:10000355-1835776800-1835798400@danvillemuseum.org
SUMMARY:Museum Open
DESCRIPTION:Museum Open to the Public \n10:00 a.m. – 4 p.m.
URL:https://danvillemuseum.org/event/5575/2028-03-04/
LOCATION:Danville Museum of Fine Arts & History\, 975 Main St\, Danville\, VA\, 24541\, United States
ORGANIZER;CN="Danville Museum of Fine Arts & History":MAILTO:info@danvillemuseum.org
END:VEVENT
BEGIN:VEVENT
DTSTART;TZID=UTC:20280305T120000
DTEND;TZID=UTC:20280305T160000
DTSTAMP:20260421T054611
CREATED:20260216T005517Z
LAST-MODIFIED:20260216T005517Z
UID:10000924-1835870400-1835884800@danvillemuseum.org
SUMMARY:Museum Open
DESCRIPTION:Museum Open to the Public \nnoon- 4 p.m.
URL:https://danvillemuseum.org/event/museum-open/2028-03-05/
LOCATION:Danville Museum of Fine Arts & History\, 975 Main St\, Danville\, VA\, 24541\, United States
ORGANIZER;CN="Danville Museum of Fine Arts & History":MAILTO:info@danvillemuseum.org
END:VEVENT
BEGIN:VEVENT
DTSTART;TZID=UTC:20280309T100000
DTEND;TZID=UTC:20280309T160000
DTSTAMP:20260421T054611
CREATED:20260216T005332Z
LAST-MODIFIED:20260402T001005Z
UID:10000356-1836208800-1836230400@danvillemuseum.org
SUMMARY:Museum Open
DESCRIPTION:Museum Open to the Public \n10:00 a.m. – 4 p.m.
URL:https://danvillemuseum.org/event/5575/2028-03-09/
LOCATION:Danville Museum of Fine Arts & History\, 975 Main St\, Danville\, VA\, 24541\, United States
ORGANIZER;CN="Danville Museum of Fine Arts & History":MAILTO:info@danvillemuseum.org
END:VEVENT
BEGIN:VEVENT
DTSTART;TZID=UTC:20280310T100000
DTEND;TZID=UTC:20280310T160000
DTSTAMP:20260421T054611
CREATED:20260216T005332Z
LAST-MODIFIED:20260402T001005Z
UID:10000357-1836295200-1836316800@danvillemuseum.org
SUMMARY:Museum Open
DESCRIPTION:Museum Open to the Public \n10:00 a.m. – 4 p.m.
URL:https://danvillemuseum.org/event/5575/2028-03-10/
LOCATION:Danville Museum of Fine Arts & History\, 975 Main St\, Danville\, VA\, 24541\, United States
ORGANIZER;CN="Danville Museum of Fine Arts & History":MAILTO:info@danvillemuseum.org
END:VEVENT
BEGIN:VEVENT
DTSTART;TZID=UTC:20280311T100000
DTEND;TZID=UTC:20280311T160000
DTSTAMP:20260421T054611
CREATED:20260216T005332Z
LAST-MODIFIED:20260402T001005Z
UID:10000358-1836381600-1836403200@danvillemuseum.org
SUMMARY:Museum Open
DESCRIPTION:Museum Open to the Public \n10:00 a.m. – 4 p.m.
URL:https://danvillemuseum.org/event/5575/2028-03-11/
LOCATION:Danville Museum of Fine Arts & History\, 975 Main St\, Danville\, VA\, 24541\, United States
ORGANIZER;CN="Danville Museum of Fine Arts & History":MAILTO:info@danvillemuseum.org
END:VEVENT
BEGIN:VEVENT
DTSTART;TZID=UTC:20280312T120000
DTEND;TZID=UTC:20280312T160000
DTSTAMP:20260421T054611
CREATED:20260216T005517Z
LAST-MODIFIED:20260216T005517Z
UID:10000925-1836475200-1836489600@danvillemuseum.org
SUMMARY:Museum Open
DESCRIPTION:Museum Open to the Public \nnoon- 4 p.m.
URL:https://danvillemuseum.org/event/museum-open/2028-03-12/
LOCATION:Danville Museum of Fine Arts & History\, 975 Main St\, Danville\, VA\, 24541\, United States
ORGANIZER;CN="Danville Museum of Fine Arts & History":MAILTO:info@danvillemuseum.org
END:VEVENT
BEGIN:VEVENT
DTSTART;TZID=UTC:20280316T100000
DTEND;TZID=UTC:20280316T160000
DTSTAMP:20260421T054611
CREATED:20260216T005332Z
LAST-MODIFIED:20260402T001005Z
UID:10000359-1836813600-1836835200@danvillemuseum.org
SUMMARY:Museum Open
DESCRIPTION:Museum Open to the Public \n10:00 a.m. – 4 p.m.
URL:https://danvillemuseum.org/event/5575/2028-03-16/
LOCATION:Danville Museum of Fine Arts & History\, 975 Main St\, Danville\, VA\, 24541\, United States
ORGANIZER;CN="Danville Museum of Fine Arts & History":MAILTO:info@danvillemuseum.org
END:VEVENT
BEGIN:VEVENT
DTSTART;TZID=UTC:20280317T100000
DTEND;TZID=UTC:20280317T160000
DTSTAMP:20260421T054611
CREATED:20260216T005332Z
LAST-MODIFIED:20260402T001005Z
UID:10000360-1836900000-1836921600@danvillemuseum.org
SUMMARY:Museum Open
DESCRIPTION:Museum Open to the Public \n10:00 a.m. – 4 p.m.
URL:https://danvillemuseum.org/event/5575/2028-03-17/
LOCATION:Danville Museum of Fine Arts & History\, 975 Main St\, Danville\, VA\, 24541\, United States
ORGANIZER;CN="Danville Museum of Fine Arts & History":MAILTO:info@danvillemuseum.org
END:VEVENT
BEGIN:VEVENT
DTSTART;TZID=UTC:20280318T100000
DTEND;TZID=UTC:20280318T160000
DTSTAMP:20260421T054611
CREATED:20260216T005332Z
LAST-MODIFIED:20260402T001005Z
UID:10000361-1836986400-1837008000@danvillemuseum.org
SUMMARY:Museum Open
DESCRIPTION:Museum Open to the Public \n10:00 a.m. – 4 p.m.
URL:https://danvillemuseum.org/event/5575/2028-03-18/
LOCATION:Danville Museum of Fine Arts & History\, 975 Main St\, Danville\, VA\, 24541\, United States
ORGANIZER;CN="Danville Museum of Fine Arts & History":MAILTO:info@danvillemuseum.org
END:VEVENT
BEGIN:VEVENT
DTSTART;TZID=UTC:20280319T120000
DTEND;TZID=UTC:20280319T160000
DTSTAMP:20260421T054611
CREATED:20260216T005517Z
LAST-MODIFIED:20260216T005517Z
UID:10000926-1837080000-1837094400@danvillemuseum.org
SUMMARY:Museum Open
DESCRIPTION:Museum Open to the Public \nnoon- 4 p.m.
URL:https://danvillemuseum.org/event/museum-open/2028-03-19/
LOCATION:Danville Museum of Fine Arts & History\, 975 Main St\, Danville\, VA\, 24541\, United States
ORGANIZER;CN="Danville Museum of Fine Arts & History":MAILTO:info@danvillemuseum.org
END:VEVENT
BEGIN:VEVENT
DTSTART;TZID=UTC:20280323T100000
DTEND;TZID=UTC:20280323T160000
DTSTAMP:20260421T054611
CREATED:20260216T005332Z
LAST-MODIFIED:20260402T001005Z
UID:10000362-1837418400-1837440000@danvillemuseum.org
SUMMARY:Museum Open
DESCRIPTION:Museum Open to the Public \n10:00 a.m. – 4 p.m.
URL:https://danvillemuseum.org/event/5575/2028-03-23/
LOCATION:Danville Museum of Fine Arts & History\, 975 Main St\, Danville\, VA\, 24541\, United States
ORGANIZER;CN="Danville Museum of Fine Arts & History":MAILTO:info@danvillemuseum.org
END:VEVENT
BEGIN:VEVENT
DTSTART;TZID=UTC:20280324T100000
DTEND;TZID=UTC:20280324T160000
DTSTAMP:20260421T054611
CREATED:20260216T005332Z
LAST-MODIFIED:20260402T001005Z
UID:10000363-1837504800-1837526400@danvillemuseum.org
SUMMARY:Museum Open
DESCRIPTION:Museum Open to the Public \n10:00 a.m. – 4 p.m.
URL:https://danvillemuseum.org/event/5575/2028-03-24/
LOCATION:Danville Museum of Fine Arts & History\, 975 Main St\, Danville\, VA\, 24541\, United States
ORGANIZER;CN="Danville Museum of Fine Arts & History":MAILTO:info@danvillemuseum.org
END:VEVENT
BEGIN:VEVENT
DTSTART;TZID=UTC:20280325T100000
DTEND;TZID=UTC:20280325T160000
DTSTAMP:20260421T054611
CREATED:20260216T005332Z
LAST-MODIFIED:20260402T001005Z
UID:10000364-1837591200-1837612800@danvillemuseum.org
SUMMARY:Museum Open
DESCRIPTION:Museum Open to the Public \n10:00 a.m. – 4 p.m.
URL:https://danvillemuseum.org/event/5575/2028-03-25/
LOCATION:Danville Museum of Fine Arts & History\, 975 Main St\, Danville\, VA\, 24541\, United States
ORGANIZER;CN="Danville Museum of Fine Arts & History":MAILTO:info@danvillemuseum.org
END:VEVENT
BEGIN:VEVENT
DTSTART;TZID=UTC:20280326T120000
DTEND;TZID=UTC:20280326T160000
DTSTAMP:20260421T054611
CREATED:20260216T005517Z
LAST-MODIFIED:20260216T005517Z
UID:10000927-1837684800-1837699200@danvillemuseum.org
SUMMARY:Museum Open
DESCRIPTION:Museum Open to the Public \nnoon- 4 p.m.
URL:https://danvillemuseum.org/event/museum-open/2028-03-26/
LOCATION:Danville Museum of Fine Arts & History\, 975 Main St\, Danville\, VA\, 24541\, United States
ORGANIZER;CN="Danville Museum of Fine Arts & History":MAILTO:info@danvillemuseum.org
END:VEVENT
BEGIN:VEVENT
DTSTART;TZID=UTC:20280330T100000
DTEND;TZID=UTC:20280330T160000
DTSTAMP:20260421T054611
CREATED:20260216T005332Z
LAST-MODIFIED:20260402T001005Z
UID:10000365-1838023200-1838044800@danvillemuseum.org
SUMMARY:Museum Open
DESCRIPTION:Museum Open to the Public \n10:00 a.m. – 4 p.m.
URL:https://danvillemuseum.org/event/5575/2028-03-30/
LOCATION:Danville Museum of Fine Arts & History\, 975 Main St\, Danville\, VA\, 24541\, United States
ORGANIZER;CN="Danville Museum of Fine Arts & History":MAILTO:info@danvillemuseum.org
END:VEVENT
BEGIN:VEVENT
DTSTART;TZID=UTC:20280331T100000
DTEND;TZID=UTC:20280331T160000
DTSTAMP:20260421T054611
CREATED:20260216T005332Z
LAST-MODIFIED:20260402T001005Z
UID:10000366-1838109600-1838131200@danvillemuseum.org
SUMMARY:Museum Open
DESCRIPTION:Museum Open to the Public \n10:00 a.m. – 4 p.m.
URL:https://danvillemuseum.org/event/5575/2028-03-31/
LOCATION:Danville Museum of Fine Arts & History\, 975 Main St\, Danville\, VA\, 24541\, United States
ORGANIZER;CN="Danville Museum of Fine Arts & History":MAILTO:info@danvillemuseum.org
END:VEVENT
BEGIN:VEVENT
DTSTART;TZID=UTC:20280401T100000
DTEND;TZID=UTC:20280401T160000
DTSTAMP:20260421T054611
CREATED:20260216T005332Z
LAST-MODIFIED:20260402T001005Z
UID:10000367-1838196000-1838217600@danvillemuseum.org
SUMMARY:Museum Open
DESCRIPTION:Museum Open to the Public \n10:00 a.m. – 4 p.m.
URL:https://danvillemuseum.org/event/5575/2028-04-01/
LOCATION:Danville Museum of Fine Arts & History\, 975 Main St\, Danville\, VA\, 24541\, United States
ORGANIZER;CN="Danville Museum of Fine Arts & History":MAILTO:info@danvillemuseum.org
END:VEVENT
BEGIN:VEVENT
DTSTART;TZID=UTC:20280402T120000
DTEND;TZID=UTC:20280402T160000
DTSTAMP:20260421T054611
CREATED:20260216T005517Z
LAST-MODIFIED:20260216T005517Z
UID:10000928-1838289600-1838304000@danvillemuseum.org
SUMMARY:Museum Open
DESCRIPTION:Museum Open to the Public \nnoon- 4 p.m.
URL:https://danvillemuseum.org/event/museum-open/2028-04-02/
LOCATION:Danville Museum of Fine Arts & History\, 975 Main St\, Danville\, VA\, 24541\, United States
ORGANIZER;CN="Danville Museum of Fine Arts & History":MAILTO:info@danvillemuseum.org
END:VEVENT
BEGIN:VEVENT
DTSTART;TZID=UTC:20280406T100000
DTEND;TZID=UTC:20280406T160000
DTSTAMP:20260421T054611
CREATED:20260216T005332Z
LAST-MODIFIED:20260402T001005Z
UID:10000368-1838628000-1838649600@danvillemuseum.org
SUMMARY:Museum Open
DESCRIPTION:Museum Open to the Public \n10:00 a.m. – 4 p.m.
URL:https://danvillemuseum.org/event/5575/2028-04-06/
LOCATION:Danville Museum of Fine Arts & History\, 975 Main St\, Danville\, VA\, 24541\, United States
ORGANIZER;CN="Danville Museum of Fine Arts & History":MAILTO:info@danvillemuseum.org
END:VEVENT
BEGIN:VEVENT
DTSTART;TZID=UTC:20280407T100000
DTEND;TZID=UTC:20280407T160000
DTSTAMP:20260421T054611
CREATED:20260216T005332Z
LAST-MODIFIED:20260402T001005Z
UID:10000369-1838714400-1838736000@danvillemuseum.org
SUMMARY:Museum Open
DESCRIPTION:Museum Open to the Public \n10:00 a.m. – 4 p.m.
URL:https://danvillemuseum.org/event/5575/2028-04-07/
LOCATION:Danville Museum of Fine Arts & History\, 975 Main St\, Danville\, VA\, 24541\, United States
ORGANIZER;CN="Danville Museum of Fine Arts & History":MAILTO:info@danvillemuseum.org
END:VEVENT
BEGIN:VEVENT
DTSTART;TZID=UTC:20280408T100000
DTEND;TZID=UTC:20280408T160000
DTSTAMP:20260421T054611
CREATED:20260216T005332Z
LAST-MODIFIED:20260402T001005Z
UID:10000370-1838800800-1838822400@danvillemuseum.org
SUMMARY:Museum Open
DESCRIPTION:Museum Open to the Public \n10:00 a.m. – 4 p.m.
URL:https://danvillemuseum.org/event/5575/2028-04-08/
LOCATION:Danville Museum of Fine Arts & History\, 975 Main St\, Danville\, VA\, 24541\, United States
ORGANIZER;CN="Danville Museum of Fine Arts & History":MAILTO:info@danvillemuseum.org
END:VEVENT
BEGIN:VEVENT
DTSTART;TZID=UTC:20280409T120000
DTEND;TZID=UTC:20280409T160000
DTSTAMP:20260421T054611
CREATED:20260216T005517Z
LAST-MODIFIED:20260216T005517Z
UID:10000929-1838894400-1838908800@danvillemuseum.org
SUMMARY:Museum Open
DESCRIPTION:Museum Open to the Public \nnoon- 4 p.m.
URL:https://danvillemuseum.org/event/museum-open/2028-04-09/
LOCATION:Danville Museum of Fine Arts & History\, 975 Main St\, Danville\, VA\, 24541\, United States
ORGANIZER;CN="Danville Museum of Fine Arts & History":MAILTO:info@danvillemuseum.org
END:VEVENT
BEGIN:VEVENT
DTSTART;TZID=UTC:20280413T100000
DTEND;TZID=UTC:20280413T160000
DTSTAMP:20260421T054611
CREATED:20260216T005332Z
LAST-MODIFIED:20260402T001005Z
UID:10000371-1839232800-1839254400@danvillemuseum.org
SUMMARY:Museum Open
DESCRIPTION:Museum Open to the Public \n10:00 a.m. – 4 p.m.
URL:https://danvillemuseum.org/event/5575/2028-04-13/
LOCATION:Danville Museum of Fine Arts & History\, 975 Main St\, Danville\, VA\, 24541\, United States
ORGANIZER;CN="Danville Museum of Fine Arts & History":MAILTO:info@danvillemuseum.org
END:VEVENT
BEGIN:VEVENT
DTSTART;TZID=UTC:20280414T100000
DTEND;TZID=UTC:20280414T160000
DTSTAMP:20260421T054611
CREATED:20260216T005332Z
LAST-MODIFIED:20260402T001005Z
UID:10000372-1839319200-1839340800@danvillemuseum.org
SUMMARY:Museum Open
DESCRIPTION:Museum Open to the Public \n10:00 a.m. – 4 p.m.
URL:https://danvillemuseum.org/event/5575/2028-04-14/
LOCATION:Danville Museum of Fine Arts & History\, 975 Main St\, Danville\, VA\, 24541\, United States
ORGANIZER;CN="Danville Museum of Fine Arts & History":MAILTO:info@danvillemuseum.org
END:VEVENT
BEGIN:VEVENT
DTSTART;TZID=UTC:20280415T100000
DTEND;TZID=UTC:20280415T160000
DTSTAMP:20260421T054611
CREATED:20260216T005332Z
LAST-MODIFIED:20260402T001005Z
UID:10000373-1839405600-1839427200@danvillemuseum.org
SUMMARY:Museum Open
DESCRIPTION:Museum Open to the Public \n10:00 a.m. – 4 p.m.
URL:https://danvillemuseum.org/event/5575/2028-04-15/
LOCATION:Danville Museum of Fine Arts & History\, 975 Main St\, Danville\, VA\, 24541\, United States
ORGANIZER;CN="Danville Museum of Fine Arts & History":MAILTO:info@danvillemuseum.org
END:VEVENT
END:VCALENDAR